BEGIN:VCALENDAR
PRODID:NingEventWidget-v1
VERSION:2.0
METHOD:PUBLISH
BEGIN:VTIMEZONE
TZID:America/Anguilla
X-LIC-LOCATION:America/Anguilla
BEGIN:STANDARD
TZOFFSETFROM:-0400
TZOFFSETTO:-0400
TZNAME:AST
DTSTART:19700101T000000
END:STANDARD
END:VTIMEZONE
BEGIN:VEVENT
UID:5831649:Event:26130
DTSTAMP:20260419T190704Z
SUMMARY:James & JF do their new show!
DESCRIPTION:Meet our latest creations, Bernie & Fontaine: We are two 
 ageless, bohemian ladies secretly living in your parents hallway close
 t. Come on some adventures with us and learn a thing or two! But remem
 ber- as far as your parents know, We're Not Here- so mum's the word, y
 ou dig? It's a kid's show for adults called: We're Not Here.\n\nFor mo
 re information visit http://conectom.leimay.org/events/james-jf-do-the
 ir-new-show
DTSTART;TZID=America/Anguilla:20120627T193000
DTEND;TZID=America/Anguilla:20120627T200000
CATEGORIES:comedy, "show:", "sketch/clown"
LOCATION:The Tank
WEBSITE:http://www.jamesandjf.com
URL:http://www.jamesandjf.com
CONTACT:
ORGANIZER;CN="Ishah Janssen-Faith":http://conectom.leimay.org/profile/
 IshahJanssenFaith
ATTACH;FMTTYPE="image/jpeg":http://storage.ning.com/topology/rest/1.0/
 file/get/111734137?profile=original
ATTENDEE;ROLE=REQ-PARTICIPANT;PARTSTAT=ACCEPTED;RSVP=TRUE;CN="Ishah Ja
 nssen-Faith":http://conectom.leimay.org/profile/IshahJanssenFaith
ATTENDEE;ROLE=REQ-PARTICIPANT;PARTSTAT=TENTATIVE;RSVP=TRUE;CN="Raul Zb
 engheci":http://conectom.leimay.org/profile/RaulZbengheci
ATTENDEE;ROLE=REQ-PARTICIPANT;PARTSTAT=TENTATIVE;RSVP=TRUE;CN="Theresa
  Magario tm":http://conectom.leimay.org/profile/TheresaMagario_tm
END:VEVENT
END:VCALENDAR
