BEGIN:VCALENDAR
PRODID:NingEventWidget-v1
VERSION:2.0
METHOD:PUBLISH
BEGIN:VTIMEZONE
TZID:America/Anguilla
X-LIC-LOCATION:America/Anguilla
BEGIN:STANDARD
TZOFFSETFROM:-0400
TZOFFSETTO:-0400
TZNAME:AST
DTSTART:19700101T000000
END:STANDARD
END:VTIMEZONE
BEGIN:VEVENT
UID:5831649:Event:27647
DTSTAMP:20260422T095809Z
SUMMARY:ISSUE Project Room presents:  Voices and Echoes Thurs. 9.27
DESCRIPTION:\nTICKETS:  http://www.brownpapertickets.com/event/263141
 \n\nCurated by Aki Onda\nISSUE Project Room will present two evenings 
 of pioneering Japanese artists renowned for their unique, interdiscipl
 inary approaches to sound-based practices: Akio Suzuki, Gozo Yoshimasu
 , and Otomo Yoshihide. The performances will span a wide array of arti
 stic disciplines including literature, sound art, conceptual performan
 ce, and improvisation — all converging around a theme of highly pers
 onalized, experimental approaches to sound perception, production, and
  presentation. While Gozo Yoshimasu and Akio Suzuki, seminal figures i
 n the fields of Japanese literature and sound art, respectively, have 
 garnered acclaim throughout Japan and Europe, though their work is lar
 gely unknown in North America.\n\nThe first evening of Voices and Ech
 oes brings together pioneering Japanese artists Akio Suzuki, Gozo Y
 oshimasu, and Otomo Yoshihide. Sound artist Akio Suzuki will perform 
 on a range of unique instruments including an Iwabue, the ancient ston
 e flute passed down through his family for many generations and the An
 alapos, an instrument he invented in the 1970s that creates echoes thr
 ough the acoustic transmissions of a spiral cord stretched between two
  metal cylinders. Experimental poet Gozo Yoshimasu will perform works 
 utilizing his unique vocalization style of recitation, which relies up
 on a highly rhythmic delivery and intense vocal modulations. Yoshimasu
  will perform in collaboration with Otomo Yoshihide, an experimental g
 uitarist/turntablist and leading international figure in the fields of
  contemporary noise and improv.\n \n\nFor more information visit http
 ://conectom.leimay.org/events/issue-project-room-presents-voices-and-e
 choes-thurs-9-27
DTSTART;TZID=America/Anguilla:20120927T200000
DTEND;TZID=America/Anguilla:20120927T220000
CATEGORIES:performance
LOCATION:Abrons Arts Center
WEBSITE:http://issueprojectroom.org/drupal/event/akio-suzuki-gozo-yosh
 imasu-otomo-yoshihide
URL:http://issueprojectroom.org/drupal/event/akio-suzuki-gozo-yoshimas
 u-otomo-yoshihide
CONTACT:9175450168
ORGANIZER:ISSUE Project Room
ATTACH;FMTTYPE="image/jpeg":http://storage.ning.com/topology/rest/1.0/
 file/get/111734486?profile=original
ATTENDEE;ROLE=REQ-PARTICIPANT;PARTSTAT=ACCEPTED;RSVP=TRUE;CN="Jill Boo
 th-Clibborn":http://conectom.leimay.org/profile/JillBoothClibborn
END:VEVENT
END:VCALENDAR
