BEGIN:VCALENDAR
PRODID:NingEventWidget-v1
VERSION:2.0
METHOD:PUBLISH
BEGIN:VTIMEZONE
TZID:America/Anguilla
X-LIC-LOCATION:America/Anguilla
BEGIN:STANDARD
TZOFFSETFROM:-0400
TZOFFSETTO:-0400
TZNAME:AST
DTSTART:19700101T000000
END:STANDARD
END:VTIMEZONE
BEGIN:VEVENT
UID:5831649:Event:27730
DTSTAMP:20260422T185119Z
SUMMARY:ISSUE Project Room presents: VOICES AND ECHOES
DESCRIPTION:Tickets:  http://www.brownpapertickets.com/event/263143\n
 \nCurated by Aki Onda\nISSUE Project Room will present two evenings of
  pioneering Japanese artists renowned for their unique, interdisciplin
 ary approaches to sound-based practices: Akio Suzuki, Gozo Yoshimasu, 
 and Otomo Yoshihide. The performances will span a wide array of artist
 ic disciplines including literature, sound art, conceptual performance
 , and improvisation — all converging around a theme of highly person
 alized, experimental approaches to sound perception, production, and p
 resentation. While Gozo Yoshimasu and Akio Suzuki, seminal figures in 
 the fields of Japanese literature and sound art, respectively, have ga
 rnered acclaim throughout Japan and Europe, though their work is large
 ly unknown in North America.\n\nThe second evening of “Voices and Ec
 hoes” features Akio Suzuki, Gozo Yoshimasu, and Otomo Yoshihide in a
  series of unique collaborations including Marina Rosenfeld, Jason Le
 scalleet, Tamio Shiraishi and Cammisa Buerhaus.\n\n\nFor more inform
 ation visit http://conectom.leimay.org/events/issue-project-room-prese
 nts-voices-and-echoes-frid-9-28-8p-abrons
DTSTART;TZID=America/Anguilla:20120928T200000
DTEND;TZID=America/Anguilla:20120928T220000
CATEGORIES:performance
LOCATION:Abrons Arts Center
WEBSITE:http://issueprojectroom.org/drupal/event/akio-suzuki-gozo-yosh
 imasu-otomo-yoshihide-more
URL:http://issueprojectroom.org/drupal/event/akio-suzuki-gozo-yoshimas
 u-otomo-yoshihide-more
CONTACT:9175450168
ORGANIZER:ISSUE Project Room
ATTACH;FMTTYPE="image/jpeg":http://storage.ning.com/topology/rest/1.0/
 file/get/111734482?profile=original
ATTENDEE;ROLE=REQ-PARTICIPANT;PARTSTAT=ACCEPTED;RSVP=TRUE;CN="Jill Boo
 th-Clibborn":http://conectom.leimay.org/profile/JillBoothClibborn
END:VEVENT
END:VCALENDAR
