BEGIN:VCALENDAR
PRODID:NingEventWidget-v1
VERSION:2.0
METHOD:PUBLISH
BEGIN:VTIMEZONE
TZID:America/Anguilla
X-LIC-LOCATION:America/Anguilla
BEGIN:STANDARD
TZOFFSETFROM:-0400
TZOFFSETTO:-0400
TZNAME:AST
DTSTART:19700101T000000
END:STANDARD
END:VTIMEZONE
BEGIN:VEVENT
UID:5831649:Event:2030
DTSTAMP:20260419T094444Z
SUMMARY:Interview with Yukio Suzuki
DESCRIPTION:This will be the last artist talk held in CAVE as part of 
 the LUDUS: Cave's Educational Program.\n\nXimena Garnica will be leadi
 ng a discussion with YUKIO SUZUKI about the ideas behind his work. It 
 is a unique opportunity to discover Yukio's work.\n\nFree admission.\n
 \nThe interview will be also streamed live at: http://www.livestream.c
 om/leimay\n\nFor more information visit http://conectom.leimay.org/eve
 nts/interview-with-yukio-suzuki
DTSTART;TZID=America/Anguilla:20101102T193000
DTEND;TZID=America/Anguilla:20101102T203000
CATEGORIES:interview
LOCATION:CAVE
WEBSITE:
URL:
CONTACT:3478384677
ORGANIZER;CN=LEIMAY:http://conectom.leimay.org/profile/LEIMAY_CAVE
ATTACH;FMTTYPE="image/jpeg":http://storage.ning.com/topology/rest/1.0/
 file/get/111733358?profile=original
ATTENDEE;ROLE=REQ-PARTICIPANT;PARTSTAT=ACCEPTED;RSVP=TRUE;CN="mike dot
 hal":http://conectom.leimay.org/profile/mikedothal
ATTENDEE;ROLE=REQ-PARTICIPANT;PARTSTAT=ACCEPTED;RSVP=TRUE;CN=LEIMAY:ht
 tp://conectom.leimay.org/profile/LEIMAY_CAVE
END:VEVENT
END:VCALENDAR
