BEGIN:VCALENDAR
PRODID:NingEventWidget-v1
VERSION:2.0
METHOD:PUBLISH
BEGIN:VTIMEZONE
TZID:America/Anguilla
X-LIC-LOCATION:America/Anguilla
BEGIN:STANDARD
TZOFFSETFROM:-0400
TZOFFSETTO:-0400
TZNAME:AST
DTSTART:19700101T000000
END:STANDARD
END:VTIMEZONE
BEGIN:VEVENT
UID:5831649:Event:65818
DTSTAMP:20260425T183129Z
SUMMARY:International Directing Workshop and Conference
DESCRIPTION:International Directing Workshop and Conference\n\nDecembe
 r 13 - 21, 2015 Austria\n\nThe working language is English.\n\nThe tra
 ining is designed as the multidisciplinary intensive lab with particip
 ation and practice together with performers from different techniques 
 and countries.\n\nThe group will stay at the XV century castle in one 
 of the most beautiful regions of Austria, surrounded by nature, fields
  and woods. Everything is organized for participants at the territory 
 of the castle - creative space, accommodation and three meals per day 
 (veggy meals available as well).\n\nProgram details & online applicati
 on form: http://www.iugte.com/projects/director\n\nFor more informatio
 n visit http://conectom.leimay.org/events/international-directing-work
 shop-and-conference
DTSTART;TZID=America/Anguilla:20151213T160000
DTEND;TZID=America/Anguilla:20151221T090000
CATEGORIES:workshop, conference
LOCATION:Austria
WEBSITE:http://www.iugte.com/projects/director
URL:http://www.iugte.com/projects/director
CONTACT:
ORGANIZER;CN=IUGTE:http://conectom.leimay.org/profile/IUGTE
ATTACH;FMTTYPE="image/jpeg":http://storage.ning.com/topology/rest/1.0/
 file/get/111740364?profile=original
ATTENDEE;ROLE=REQ-PARTICIPANT;PARTSTAT=ACCEPTED;RSVP=TRUE;CN=IUGTE:htt
 p://conectom.leimay.org/profile/IUGTE
END:VEVENT
END:VCALENDAR
