BEGIN:VCALENDAR
PRODID:NingEventWidget-v1
VERSION:2.0
METHOD:PUBLISH
BEGIN:VTIMEZONE
TZID:America/Anguilla
X-LIC-LOCATION:America/Anguilla
BEGIN:STANDARD
TZOFFSETFROM:-0400
TZOFFSETTO:-0400
TZNAME:AST
DTSTART:19700101T000000
END:STANDARD
END:VTIMEZONE
BEGIN:VEVENT
UID:5831649:Event:25179
DTSTAMP:20260419T192459Z
SUMMARY:inkBoat with Ko Murobushi
DESCRIPTION:\nThe Crazy Cloud Collection- Unplugged\n\n Tickets: $20 /
  $17  (CAVE Nexus discount) www.inkboat.com | www.komurobushi.com\n
 \n“The Crazy Cloud Collection” results from the intersection of Ko
  Murobushi, recognized in Japan as a leading inheritor of Hijikata’s
  original vision of Butoh, and Shinichi Iova-Koga, whose aesthetic bal
 ances between the known and unknown, improvising image within and with
 out the body. Together, these artists invite the ghost of Ikkyu, a 15t
 h century monk known for provocative, biting and unorthodox poetry, to
  share the stage with them. The Crazy Cloud Collection is a collision.
  The life of 15th century Buddhist monk and poet Ikkyu Sojun meets mod
 ern humanity, and questions arise that provoke and prod the order of o
 ur lives. Crazy Cloud is choreographed by Ko Murobushi, recognized in 
 Japan as a leading inheritor of Hijikata’s original vision of Butoh,
  and inkBoat’s Shinichi Iova-Koga, a younger generation artist who h
 as created a hybrid form of performance integrating Butoh dance, physi
 cal theater and martial arts. Together, these artists invite the ghost
  of Ikkyu, known for provocative, biting and unorthodox poetry, to sha
 re the stage with them.\n\nGet Tickets\nCoupon discount code: SoggyTic
 ket6\n\n\nFor more information visit http://conectom.leimay.org/events
 /inkboat-with-ko-murobushi
DTSTART;TZID=America/Anguilla:20120501T200000
DTEND;TZID=America/Anguilla:20120501T220000
CATEGORIES:performance
LOCATION:CAVE
WEBSITE:http://www.cavearts.org
URL:http://www.cavearts.org
CONTACT:
ORGANIZER;CN=LEIMAY:http://conectom.leimay.org/profile/LEIMAY_CAVE
ATTACH;FMTTYPE="image/jpeg":http://storage.ning.com/topology/rest/1.0/
 file/get/111733959?profile=original
ATTENDEE;ROLE=REQ-PARTICIPANT;PARTSTAT=ACCEPTED;RSVP=TRUE;CN="julie sp
 odek":http://conectom.leimay.org/profile/juliespodek
ATTENDEE;ROLE=REQ-PARTICIPANT;PARTSTAT=ACCEPTED;RSVP=TRUE;CN="Irena Ro
 mendik":http://conectom.leimay.org/profile/IrenaRomendik
ATTENDEE;ROLE=REQ-PARTICIPANT;PARTSTAT=ACCEPTED;RSVP=TRUE;CN="Charles 
 Colten":http://conectom.leimay.org/profile/CharlesColten
ATTENDEE;ROLE=REQ-PARTICIPANT;PARTSTAT=ACCEPTED;RSVP=TRUE;CN="Theresa 
 Magario tm":http://conectom.leimay.org/profile/TheresaMagario_tm
ATTENDEE;ROLE=REQ-PARTICIPANT;PARTSTAT=ACCEPTED;RSVP=TRUE;CN=LEIMAY:ht
 tp://conectom.leimay.org/profile/LEIMAY_CAVE
END:VEVENT
END:VCALENDAR
