BEGIN:VCALENDAR
PRODID:NingEventWidget-v1
VERSION:2.0
METHOD:PUBLISH
BEGIN:VTIMEZONE
TZID:America/Anguilla
X-LIC-LOCATION:America/Anguilla
BEGIN:STANDARD
TZOFFSETFROM:-0400
TZOFFSETTO:-0400
TZNAME:AST
DTSTART:19700101T000000
END:STANDARD
END:VTIMEZONE
BEGIN:VEVENT
UID:5831649:Event:34579
DTSTAMP:20260419T083610Z
SUMMARY:In the 212: Closing Bash // American Realness Festival
DESCRIPTION:For the closing night of the festival, American Realness w
 elcomes a mix of artists to share the stage in a mixed bill evening fe
 aturing many festival and NYC favorites. Confirmed artists include, Yv
 onne Meier who will present one of her famed Gogolorez scores, Neal Me
 dlyn taking on Beyonce taking on Anne Teresa (to be aided by dancers M
 ichelle Boulé and Luke George), and Luciana Achugar and Levi Gonzalez
  with their recently revisited work HIT. The evening will include a o
 ther artists still to be confirmed and promises to be an evening one w
 on't want to miss or will soon forget.\n\nTickets $25\n\nFor more info
 rmation visit http://conectom.leimay.org/events/in-the-212-closing-bas
 h-american-realness-festival
DTSTART;TZID=America/Anguilla:20130120T190000
DTEND;TZID=America/Anguilla:20130120T230000
CATEGORIES:"closing party", "mega performance", indulgence
LOCATION:Abrons Art Center Playhouse
WEBSITE:http://www.abronsartscenter.org/performances/american-realness
 -2013/in-the-212.html
URL:http://www.abronsartscenter.org/performances/american-realness-201
 3/in-the-212.html
CONTACT:
ORGANIZER:
ATTACH;FMTTYPE="image/jpeg":http://storage.ning.com/topology/rest/1.0/
 file/get/111735817?profile=original
ATTENDEE;ROLE=REQ-PARTICIPANT;PARTSTAT=ACCEPTED;RSVP=TRUE;CN="Raul Zbe
 ngheci":http://conectom.leimay.org/profile/RaulZbengheci
END:VEVENT
END:VCALENDAR
