BEGIN:VCALENDAR
PRODID:NingEventWidget-v1
VERSION:2.0
METHOD:PUBLISH
BEGIN:VTIMEZONE
TZID:America/Anguilla
X-LIC-LOCATION:America/Anguilla
BEGIN:STANDARD
TZOFFSETFROM:-0400
TZOFFSETTO:-0400
TZNAME:AST
DTSTART:19700101T000000
END:STANDARD
END:VTIMEZONE
BEGIN:VEVENT
UID:5831649:Event:45962
DTSTAMP:20260423T232621Z
SUMMARY:How you shone through me, Matty Davis
DESCRIPTION:I'd like to cordially invite you to an upcoming art show, 
 my first in New York, that will consist of a visually diverse suite of
  works united by their concern for the elemental, visceral communion b
 etween ourselves and other people, landscapes, and materials.\n\nAlso,
  boomerang--a fearlessly physical, poetically-nuanced dance a performa
 nce project--will be presenting works in the space throughout the exhi
 bition.\n\nI very much appreciate this opportunity to share my work in
  NYC.  Hope to see you there!\n\nWith gratitude,\nMatty\n\nFor more i
 nformation visit http://conectom.leimay.org/events/how-you-shone-throu
 gh-me-matty-davis
DTSTART;TZID=America/Anguilla:20140530T000000
DTEND;TZID=America/Anguilla:20140601T235900
CATEGORIES:art, "show/performance"
LOCATION:49B Studios 2nd Fl.
WEBSITE:https://www.facebook.com/pages/49B-Studios/159676827389643
URL:https://www.facebook.com/pages/49B-Studios/159676827389643
CONTACT:724 316 7997
ORGANIZER:49B Studios
ATTACH;FMTTYPE="image/jpeg":http://storage.ning.com/topology/rest/1.0/
 file/get/111738656?profile=original
ATTENDEE;ROLE=REQ-PARTICIPANT;PARTSTAT=ACCEPTED;RSVP=TRUE;CN="mike dot
 hal":http://conectom.leimay.org/profile/mikedothal
ATTENDEE;ROLE=REQ-PARTICIPANT;PARTSTAT=ACCEPTED;RSVP=TRUE;CN="Matty Da
 vis":http://conectom.leimay.org/profile/MattyDavis167
END:VEVENT
END:VCALENDAR
