BEGIN:VCALENDAR
PRODID:NingEventWidget-v1
VERSION:2.0
METHOD:PUBLISH
BEGIN:VTIMEZONE
TZID:America/Anguilla
X-LIC-LOCATION:America/Anguilla
BEGIN:STANDARD
TZOFFSETFROM:-0400
TZOFFSETTO:-0400
TZNAME:AST
DTSTART:19700101T000000
END:STANDARD
END:VTIMEZONE
BEGIN:VEVENT
UID:5831649:Event:37003
DTSTAMP:20260419T094448Z
SUMMARY:Hiroaki Umeda // Haptic and Holistic Strata
DESCRIPTION:Mar 7 - 9 at 7:30pm\n$20\nTokyo-based performance artist H
 iroakiÂ Umeda returns to New York with twoÂ visually atmospheric works
 . CreatedÂ at the renowned Yamaguchi Center forÂ Arts and Media in Jap
 an,Â Holistic StrataÂ is a kinetic installation examining visualÂ reco
 gnition and the border between danceÂ and video.Â HapticÂ concentrates
  on theÂ effects of light and color investigating theÂ physical aspect
  of the chromatic prism andÂ its physiological stimuli.\nMar 7 at 6:30
  Come EarlyÂ Conversation:Â The Visual Atmosphere in DanceÂ with HÃ©lÃ
 ¨ne LesterlinMar 8 Stay Late Discussion:Â The Process of Creating Hapt
 ic and Holistic StrataÂ with Carla Peterson (Artistic Director, New Yo
 rk Live Arts)\n\n\nFor more information visit http://conectom.leimay.o
 rg/events/hiroaki-umeda-haptic-and-holistic-strata
DTSTART;TZID=America/Anguilla:20130307T193000
DTEND;TZID=America/Anguilla:20130307T210000
CATEGORIES:"multi-media performance"
LOCATION:New York Live Arts
WEBSITE:http://newyorklivearts.org/event/haptic_and_holistic_strata
URL:http://newyorklivearts.org/event/haptic_and_holistic_strata
CONTACT:
ORGANIZER:
ATTACH;FMTTYPE="image/jpeg":http://storage.ning.com/topology/rest/1.0/
 file/get/111736147?profile=original
ATTENDEE;ROLE=REQ-PARTICIPANT;PARTSTAT=ACCEPTED;RSVP=TRUE;CN="Raul Zbe
 ngheci":http://conectom.leimay.org/profile/RaulZbengheci
END:VEVENT
END:VCALENDAR
