BEGIN:VCALENDAR
PRODID:NingEventWidget-v1
VERSION:2.0
METHOD:PUBLISH
BEGIN:VTIMEZONE
TZID:America/Anguilla
X-LIC-LOCATION:America/Anguilla
BEGIN:STANDARD
TZOFFSETFROM:-0400
TZOFFSETTO:-0400
TZNAME:AST
DTSTART:19700101T000000
END:STANDARD
END:VTIMEZONE
BEGIN:VEVENT
UID:5831649:Event:73105
DTSTAMP:20260419T092329Z
SUMMARY:Hanasaka Jiisan (The Old Man Who Made Flowers Bloom)
DESCRIPTION:\"...A Japanese Monty Python with a Beatles-like spirit...
 \" —The New York Times on Condors\n One of Japan’s most popular mu
 kashi banashi folktales comes to life through the playful interpretati
 on of beloved all-male contemporary dance company Condors, led by Ryoh
 ei Kondo. Chock-full of high-octane dance, spirited music, kamishibai 
 (picture storytelling), colorful costumes and props and lots of humor,
  Hanasaka Jiisan, which recognizes the importance of honesty and kindn
 ess, promises to delight all ages.  As a perfect prelude, New York-bas
 ed Japanese puppet artist Maiko Kikuchi offers her witty PINK BUNNY, 
 a parade of the most unlikely of objects assembled in a work to remind
  us that nothing is impossible.  Tickets: $28/$23 Japan Society member
 s.\n\nFor more information visit http://conectom.leimay.org/events/han
 asaka-jiisan-the-old-man-who-made-flowers-bloom
DTSTART;TZID=America/Anguilla:20161210T193000
DTEND;TZID=America/Anguilla:20161211T143000
CATEGORIES:dance, family, folktales, japan
LOCATION:Japan Society
WEBSITE:http://www.japansociety.org/event/hanasaka-jiisan-the-old-man-
 who-made-flowers-bloom
URL:http://www.japansociety.org/event/hanasaka-jiisan-the-old-man-who-
 made-flowers-bloom
CONTACT:212-715-1258
ORGANIZER;CN="Lara Mones":http://conectom.leimay.org/profile/LaraMones
ATTACH;FMTTYPE="image/jpeg":http://storage.ning.com/topology/rest/1.0/
 file/get/111740821?profile=original
ATTENDEE;ROLE=REQ-PARTICIPANT;PARTSTAT=ACCEPTED;RSVP=TRUE;CN="Lara Mon
 es":http://conectom.leimay.org/profile/LaraMones
END:VEVENT
END:VCALENDAR
