BEGIN:VCALENDAR
PRODID:NingEventWidget-v1
VERSION:2.0
METHOD:PUBLISH
BEGIN:VTIMEZONE
TZID:America/Anguilla
X-LIC-LOCATION:America/Anguilla
BEGIN:STANDARD
TZOFFSETFROM:-0400
TZOFFSETTO:-0400
TZNAME:AST
DTSTART:19700101T000000
END:STANDARD
END:VTIMEZONE
BEGIN:VEVENT
UID:5831649:Event:61002
DTSTAMP:20260419T143435Z
SUMMARY:Guggenheim Museum Spring lecture
DESCRIPTION:\n\n\nFifth annual Robert Rosenblum Lecture Miriam Basilio
 : \"Ritual and Spectacle in Franco's Regime\"  Although we are familia
 r with Pablo Picasso's Guernica (1937) and imagery of the Spanish Ci
 vil War, the propaganda of Francisco Franco's regime is still largely 
 unknown. Majestic portraits and posters of the dictator drew on Spanis
 h baroque painting, modern photography, and contemporary advertising. 
 Museums and exhibitions were staged as sites of ritual, spectacle, and
  national tourism, practices at times indebted to the arts of Fascist 
 Italy under Benito Mussolini. This lecture will consider the art and c
 ulture—and its context—of Franco's Spain.   Miriam M. Basilio is
  Associate Professor of Art History and Museum Studies at New York Uni
 versity. Her research focuses on visual and exhibition cultures, propa
 ganda, and the history of exhibitions of Spanish and Latin American ar
 t. Her book Visual Propaganda, Exhibitions, and the Spanish Civil War
 was published by Ashgate in 2013. Basilio served as a curator for the 
 exhibition MoMA at El Museo: Latin American and Caribbean Art from th
 e Collection of The Museum of Modern Art (2003).\n\n\n\n\nFree with n
 o advanced registration and includes a reception.\n\nThe annual Robert
  Rosenblum Lecture series honors the wide-ranging career of Robert Ros
 enblum (1927–2006), former Guggenheim Swid Curator of 20th-Century A
 rt and Henry Ittleson Jr. Professor of Modern European Art, New York U
 niversity, whose celebrated work included projects on Jean-Auguste-Dom
 inique Ingres, Norman Rockwell, Andy Warhol, and the depiction of dogs
  in art. This series is facilitated by donors to the Robert Rosenblum 
 Fund who are gratefully acknowledged for their generosity.\n\n\n\n\n\n
 \n\n\n\n\n\n\n\n \n\n\n\n\n\n\n\n\n\n\n\n\n\nFor more information visi
 t http://conectom.leimay.org/events/guggenheim-museum-spring-lecture
DTSTART;TZID=America/Anguilla:20150422T183000
DTEND;TZID=America/Anguilla:20150422T200000
CATEGORIES:lecture
LOCATION:Solomon R. Guggenheim Museum
WEBSITE:http://www.guggenheim.org/new-york/calendar-and-events/2015/04
 /22/fifth-annual-robert-rosenblum-lecture-miriam-basilio/4552%5D
URL:http://www.guggenheim.org/new-york/calendar-and-events/2015/04/22/
 fifth-annual-robert-rosenblum-lecture-miriam-basilio/4552%5D
CONTACT:
ORGANIZER;CN="Theresa Magario tm":http://conectom.leimay.org/profile/T
 heresaMagario_tm
ATTACH;FMTTYPE="image/jpeg":http://storage.ning.com/topology/rest/1.0/
 file/get/111739932?profile=original
ATTENDEE;ROLE=REQ-PARTICIPANT;PARTSTAT=ACCEPTED;RSVP=TRUE;CN="Theresa 
 Magario tm":http://conectom.leimay.org/profile/TheresaMagario_tm
END:VEVENT
END:VCALENDAR
