BEGIN:VCALENDAR
PRODID:NingEventWidget-v1
VERSION:2.0
METHOD:PUBLISH
BEGIN:VTIMEZONE
TZID:America/Anguilla
X-LIC-LOCATION:America/Anguilla
BEGIN:STANDARD
TZOFFSETFROM:-0400
TZOFFSETTO:-0400
TZNAME:AST
DTSTART:19700101T000000
END:STANDARD
END:VTIMEZONE
BEGIN:VEVENT
UID:5831649:Event:36602
DTSTAMP:20260422T050308Z
SUMMARY:Good Person of Szechwan // The Foundry Theater // Bertold Brec
 ht
DESCRIPTION:Can we practice goodness and create a world to sustain it?
   In Brecht’s comic and complex play, this question is raised by on
 e of his most entertaining characters — Shen Tei the good-hearted,
  penniless, cross-dressing prostitute, who is forced to disguise herse
 lf as a savvy businessman named Sui Ta so she can master the ruthles
 sness needed to be a “good person” in a brutal world.\nWith Taylor
  Mac, “one of the most exciting theater artists of our times” (T
 ime Out NY), as Shen Tei/Sui Ta and live music by “indie rock vaude
 villians” (Spin magazine) César Alvarez & The Lisps, director Lear
  deBessonet brings this classic theatrical parable to life for the 21s
 t century.\nBy Bertolt BrechtA The Foundry Theatre productionDirect
 ed by Lear deBessonetwith Taylor Mac as Shen TeiMusic by César Alvar
 ez with The Lisps\n\nFor more information visit http://conectom.leimay
 .org/events/good-person-of-szechwan-the-foundry-theater-bertold-brecht
DTSTART;TZID=America/Anguilla:20130212T203000
DTEND;TZID=America/Anguilla:20130212T230000
CATEGORIES:"bertold brecht", theater, "taylor mac"
LOCATION:La MaMa
WEBSITE:http://lamama.org/ellen-stewart-theatre/the-good-person-of-sze
 chuan/
URL:http://lamama.org/ellen-stewart-theatre/the-good-person-of-szechua
 n/
CONTACT:
ORGANIZER:
ATTACH;FMTTYPE="image/jpeg":http://storage.ning.com/topology/rest/1.0/
 file/get/111735858?profile=original
ATTENDEE;ROLE=REQ-PARTICIPANT;PARTSTAT=ACCEPTED;RSVP=TRUE;CN="Raul Zbe
 ngheci":http://conectom.leimay.org/profile/RaulZbengheci
END:VEVENT
END:VCALENDAR
