BEGIN:VCALENDAR
PRODID:NingEventWidget-v1
VERSION:2.0
METHOD:PUBLISH
BEGIN:VTIMEZONE
TZID:America/Anguilla
X-LIC-LOCATION:America/Anguilla
BEGIN:STANDARD
TZOFFSETFROM:-0400
TZOFFSETTO:-0400
TZNAME:AST
DTSTART:19700101T000000
END:STANDARD
END:VTIMEZONE
BEGIN:VEVENT
UID:5831649:Event:34009
DTSTAMP:20260424T100934Z
SUMMARY:Gocha Tsinadze // Droneclone: Tundra Forrest
DESCRIPTION:Gocha Tsinadze aka Droneclone is a composer, sound and per
 formance/installation based artist. He Works and Lives in NYC and hail
 s from the Republic of Georgia. For this next performance at Harvestwo
 rks titled “Tundra Forrest ” Tsinadze incorporates found sound, sa
 mpled instruments and computer generated sound to weave a dense collag
 e of moving textures and soundscapes. Deeply indebted to drone and amb
 ient sensibilities as well as dub and minimal electronic music, Gocha 
 Tsinadze aka Droneclone sculpts a three dimensional soundscape using 5
 .1 channel surround sound. “I am interested in the scrim of memory a
 nd the affect time has on the psyche and senses. I explore notions of 
 decay within a subconscious semiotic system. Through the conception of
  ephemeral spaces I aim to mimic the contours and experiences of a hyb
 rid between the man made and natural environment”- Gocha Tsinadze Fo
 r more information please visit www.droneclone.bandcamp.com and www
 .vimeo.com/droneclone\n\nFor more information visit http://conectom.le
 imay.org/events/gocha-tsinadze-droneclone-tundra-forrest
DTSTART;TZID=America/Anguilla:20130105T190000
DTEND;TZID=America/Anguilla:20130105T203000
CATEGORIES:"sound performance", "ambient zones", "layered sounds"
LOCATION:HarvestWorks
WEBSITE:http://www.harvestworks.org/jan-5-gocha-tsinadze-droneclone-tu
 ndra-forrest/
URL:http://www.harvestworks.org/jan-5-gocha-tsinadze-droneclone-tundra
 -forrest/
CONTACT:
ORGANIZER:
ATTACH;FMTTYPE="image/jpeg":http://storage.ning.com/topology/rest/1.0/
 file/get/111735806?profile=original
ATTENDEE;ROLE=REQ-PARTICIPANT;PARTSTAT=ACCEPTED;RSVP=TRUE;CN="Raul Zbe
 ngheci":http://conectom.leimay.org/profile/RaulZbengheci
END:VEVENT
END:VCALENDAR
