BEGIN:VCALENDAR
PRODID:NingEventWidget-v1
VERSION:2.0
METHOD:PUBLISH
BEGIN:VTIMEZONE
TZID:America/Anguilla
X-LIC-LOCATION:America/Anguilla
BEGIN:STANDARD
TZOFFSETFROM:-0400
TZOFFSETTO:-0400
TZNAME:AST
DTSTART:19700101T000000
END:STANDARD
END:VTIMEZONE
BEGIN:VEVENT
UID:5831649:Event:21912
DTSTAMP:20260419T223751Z
SUMMARY:Gilding the Lonely
DESCRIPTION:Hailed by the New York Times as “half witch and half cab
 aret performer,” Performer/Chanteuse Raquel Cion returns to Dixon Pl
 ace's Lounge for three nights of the glitter-ball performance, wry hum
 or, open-hearted pathos, passion and singing she’s known for. Join h
 er as she uses song to face a wall of loneliness with the help and art
 istry of Matthew Leonard on piano and the driving drums and percussion
  of Bill Gerstel. They’ll kick down that wall and kick out the jams!
 \n\nFor more information visit http://conectom.leimay.org/events/gildi
 ng-the-lonely
DTSTART;TZID=America/Anguilla:20111214T193000
DTEND;TZID=America/Anguilla:20111216T213000
CATEGORIES:cabaret
LOCATION:The Lounge at Dixon Place
WEBSITE:http://www.dixonplace.org
URL:http://www.dixonplace.org
CONTACT:212.219.0736
ORGANIZER;CN="Raquel Cion":http://conectom.leimay.org/profile/RaquelCi
 on
ATTACH;FMTTYPE="image/jpeg":http://storage.ning.com/topology/rest/1.0/
 file/get/111733589?profile=original
ATTENDEE;ROLE=REQ-PARTICIPANT;PARTSTAT=ACCEPTED;RSVP=TRUE;CN="mike dot
 hal":http://conectom.leimay.org/profile/mikedothal
ATTENDEE;ROLE=REQ-PARTICIPANT;PARTSTAT=ACCEPTED;RSVP=TRUE;CN="Raquel C
 ion":http://conectom.leimay.org/profile/RaquelCion
END:VEVENT
END:VCALENDAR
