BEGIN:VCALENDAR
PRODID:NingEventWidget-v1
VERSION:2.0
METHOD:PUBLISH
BEGIN:VTIMEZONE
TZID:America/Anguilla
X-LIC-LOCATION:America/Anguilla
BEGIN:STANDARD
TZOFFSETFROM:-0400
TZOFFSETTO:-0400
TZNAME:AST
DTSTART:19700101T000000
END:STANDARD
END:VTIMEZONE
BEGIN:VEVENT
UID:5831649:Event:7202
DTSTAMP:20260425T230225Z
SUMMARY:Ghost – Deep Soul – Death Bears life
DESCRIPTION:Five Butoh danceperformances with six japanese and one ger
 man dancer.\nMinako Seki (Berlin), Yuko Kaseki (Berlin),  Yuri Nagaoka
  (Tokio), Yukio Suzuki (Tokio), Teita Iwabuchi,  Seiji Tanaka (Tokio),
  Sabine Seume (Düsseldorf)\n \n\nFor more information visit http://c
 onectom.leimay.org/events/ghost-deep-soul-death-bears
DTSTART;TZID=America/Anguilla:20110528T170000
DTEND;TZID=America/Anguilla:20110528T210000
CATEGORIES:butoh-festival
LOCATION:CON-SUM Hans Peter Zimmer Stiftung in Gründung
WEBSITE:http://www.hpz-stiftung.org
URL:http://www.hpz-stiftung.org
CONTACT:0049 211 7308136
ORGANIZER;CN="Wolfgang Schaefer":http://conectom.leimay.org/profile/Wo
 lfgangSchaefer
ATTACH;FMTTYPE="image/jpeg":http://storage.ning.com/topology/rest/1.0/
 file/get/111733329?profile=original
ATTENDEE;ROLE=REQ-PARTICIPANT;PARTSTAT=ACCEPTED;RSVP=TRUE;CN="Tom Sand
 o":http://conectom.leimay.org/profile/TomSando
ATTENDEE;ROLE=REQ-PARTICIPANT;PARTSTAT=ACCEPTED;RSVP=TRUE;CN="Wolfgang
  Schaefer":http://conectom.leimay.org/profile/WolfgangSchaefer
END:VEVENT
END:VCALENDAR
