BEGIN:VCALENDAR
PRODID:NingEventWidget-v1
VERSION:2.0
METHOD:PUBLISH
BEGIN:VTIMEZONE
TZID:America/Anguilla
X-LIC-LOCATION:America/Anguilla
BEGIN:STANDARD
TZOFFSETFROM:-0400
TZOFFSETTO:-0400
TZNAME:AST
DTSTART:19700101T000000
END:STANDARD
END:VTIMEZONE
BEGIN:VEVENT
UID:5831649:Event:59821
DTSTAMP:20260419T130813Z
SUMMARY:GENERATIONS OF GYPSY FLAMENCO
DESCRIPTION:GENERATIONS OF GYPSY FLAMENCOConcha Vargas, Pepe Torres, &
  Gema Moneoand special guest Esperanza Fernandez Click Here to Purcha
 se Tickets\nTaking one back to the heart of flamenco puro, this mesmer
 izing program features three extraordinary Gypsy dancers representing 
 several generations and styles from Andalusia: Concha Vargas, an icon
  of Gypsy flamenco dance and a living legend representing the Golden A
 ge of Flamenco; Pepe Torres, a polyrhythmic powerhouse whose superb f
 ootwork provided the main percussive support for the award-winning ens
 emble Son de la Frontera; and rising star Gema Moneo - born into the
  renowned Moneo clan of Gypsy flamenco singers and guitarists - who ha
 s caught the eye of the most demanding of the world’s flamenco dance
  enthusiasts. Vocalist/dancer Esperanza Fernandez, one of flamenco’s
  leading singers, will appear as special guest artist. Other ensemble 
 members include singers José Valencia andLuis Moneo, guitarists El
  Perla and José Gálvez, and percussionist Luis de la Tota.\n\nFor
  more information visit http://conectom.leimay.org/events/generations-
 of-gypsy-flamenco
DTSTART;TZID=America/Anguilla:20150320T200000
DTEND;TZID=America/Anguilla:20150320T210000
CATEGORIES:dance
LOCATION:The Town Hall
WEBSITE:http://thetownhall.org/event/592-generations-of-gypsy-flamenco
 -
URL:http://thetownhall.org/event/592-generations-of-gypsy-flamenco-
CONTACT:
ORGANIZER:The Town Hall
ATTACH;FMTTYPE="image/jpeg":http://storage.ning.com/topology/rest/1.0/
 file/get/111739523?profile=original
ATTENDEE;ROLE=REQ-PARTICIPANT;PARTSTAT=ACCEPTED;RSVP=TRUE;CN=LEIMAY:ht
 tp://conectom.leimay.org/profile/LEIMAY_CAVE
END:VEVENT
END:VCALENDAR
