BEGIN:VCALENDAR
PRODID:NingEventWidget-v1
VERSION:2.0
METHOD:PUBLISH
BEGIN:VTIMEZONE
TZID:America/Anguilla
X-LIC-LOCATION:America/Anguilla
BEGIN:STANDARD
TZOFFSETFROM:-0400
TZOFFSETTO:-0400
TZNAME:AST
DTSTART:19700101T000000
END:STANDARD
END:VTIMEZONE
BEGIN:VEVENT
UID:5831649:Event:38340
DTSTAMP:20260424T053538Z
SUMMARY:Gavin Russom // Bunkerweltanschauung
DESCRIPTION:Gavin Russom presents Bunkerweltanschauung (Bunker ideolo
 gy), featuring Labanna Babalon, Alberto Cortes, Raul De Nieves, Marie 
 Karlberg, Liz Larsen, Stanley Love, Micki Pellerano, and Viva Ruiz\n12
 –6 PM · VW Dome\nTICKETS: $12 at the door, $10 in advancePurchase 
 tickets HERE\nBunkerweltanschauung (Bunker ideology) is an ongoing i
 nstallation and event series curated and designed by artist, music pro
 ducer and DJ Gavin Russom. The event is based on a fantasy scenario i
 n which the world has become inhospitable and a group of radicals have
  taken refuge inside an abandoned bunker to gestate a new vision of hu
 man culture. The Bunker, an architectural space originally created to 
 protect a political elite from a war that they created, becomes womb, 
 grave, temple, labyrinth, cocoon, nightclub; a liminal zone that creat
 es unique conditions for metamorphosis. Featured artists will includeL
 abanna Babalon, Alberto Cortes, Raul De Nieves, Marie Karlberg, Li
 z Larsen, Stanley Love, Micki Pellerano, and Viva Ruiz as well as
  Russom himself. The participants work in a variety of disciplines inc
 luding nightlife, video technology, dance, film and fashion.\n\nFor mo
 re information visit http://conectom.leimay.org/events/gavin-russom-bu
 nkerweltanschauung
DTSTART;TZID=America/Anguilla:20130331T120000
DTEND;TZID=America/Anguilla:20130331T180000
CATEGORIES:"group dystopian utopian performance", "mega live-in show"
LOCATION:MoMA PS1
WEBSITE:http://momaps1.org/calendar/view/411/
URL:http://momaps1.org/calendar/view/411/
CONTACT:
ORGANIZER:
ATTACH;FMTTYPE="image/jpeg":http://storage.ning.com/topology/rest/1.0/
 file/get/111736173?profile=original
ATTENDEE;ROLE=REQ-PARTICIPANT;PARTSTAT=ACCEPTED;RSVP=TRUE;CN="Raul Zbe
 ngheci":http://conectom.leimay.org/profile/RaulZbengheci
END:VEVENT
END:VCALENDAR
