BEGIN:VCALENDAR
PRODID:NingEventWidget-v1
VERSION:2.0
METHOD:PUBLISH
BEGIN:VTIMEZONE
TZID:America/Anguilla
X-LIC-LOCATION:America/Anguilla
BEGIN:STANDARD
TZOFFSETFROM:-0400
TZOFFSETTO:-0400
TZNAME:AST
DTSTART:19700101T000000
END:STANDARD
END:VTIMEZONE
BEGIN:VEVENT
UID:5831649:Event:60790
DTSTAMP:20260419T094234Z
SUMMARY:Gallery Performance!
DESCRIPTION:An evening of two interactive dances related to the art oc
 cupying the space, an exclusive preview of the company’s newest even
 ing Skin which will premiere June 25-27 at Danspace Project, and t
 he launch of a dance film created in collaboration with Victoria Sendr
 a. Guests will have an opportunity to meet and interact with the compa
 ny + collaborators, listen to music by one of New York’s finest djs 
 and enjoy an open bar provided by Bronx Brewery and The Natural Wine 
 Company and hor d’oeuvres provided by Forgetmenot Cafe.  Visual Ar
 t by Gelan Penn and Sara Schneckloth $10 at the doorTo RSVP please e
 mail angela.bryncohnandartists@gmail.com CHECK OUT OUR EVENT ON FAC
 EBOOK \n\nFor more information visit http://conectom.leimay.org/event
 s/gallery-performance
DTSTART;TZID=America/Anguilla:20150506T183000
DTEND;TZID=America/Anguilla:20150506T210000
CATEGORIES:dance, visual, art
LOCATION:Foley Gallery
WEBSITE:https://www.facebook.com/bryncohnandartists?fref=ts
URL:https://www.facebook.com/bryncohnandartists?fref=ts
CONTACT:
ORGANIZER:
ATTACH;FMTTYPE="image/jpeg":
ATTENDEE;ROLE=REQ-PARTICIPANT;PARTSTAT=ACCEPTED;RSVP=TRUE;CN="Theresa 
 Magario tm":http://conectom.leimay.org/profile/TheresaMagario_tm
END:VEVENT
END:VCALENDAR
