BEGIN:VCALENDAR
PRODID:NingEventWidget-v1
VERSION:2.0
METHOD:PUBLISH
BEGIN:VTIMEZONE
TZID:America/Anguilla
X-LIC-LOCATION:America/Anguilla
BEGIN:STANDARD
TZOFFSETFROM:-0400
TZOFFSETTO:-0400
TZNAME:AST
DTSTART:19700101T000000
END:STANDARD
END:VTIMEZONE
BEGIN:VEVENT
UID:5831649:Event:75804
DTSTAMP:20260419T111515Z
SUMMARY:Frantic Beauty
DESCRIPTION:The World Premiere of Frantic Beauty marks LEIMAY’s retu
 rn to BAM Fisher for the third installment of their BECOMING pentalogy
 . Co-conceived, designed, and directed by Ximena Garnica and Shige Mor
 iya and featuring the LEIMAY Ensemble, this original dance theater wor
 k reflects on society’s pursuit of and relationship to beauty. In Fr
 antic Beauty, the multidisciplinary duo navigates this intricate thema
 tic terrain by engulfing the audiences in trembling images, layering s
 triking physicality and textured video landscapes, lushly scored by th
 e Emmy-winning composer Jeff Beal (House of Cards).  Frantic Beauty is
  accompanied by a publication that reflects on the themes of the work.
   COMPLETE LISTING OF DATES AND EVENTS: Sep 14 - 17, (Thursday - Sunda
 y): Performances at 8pm  Additional Events: Sep 14 - Opening Night Rec
 eption & Publication Release (Following the Performance) Sep 15 - Post
 -Show Talk: Audience Roundtable (Folowing the Performance) Sep 16, 6:3
 0pm - Pre-Show Talk: Tracing the Art with Ximena Garnica and Shige Mor
 iya Sep 17, 12pm - 2pm - LEIMAY LUDUS What a Body Can Do  Sep 17 - Cl
 osing Night Toast (Following the Performance)  Performance Direction, 
 Visual Design, and Concept: Ximena Garnica & Shige Moriya Choreography
 : Ximena Garnica, Shige Moriya, with the LEIMAY Ensemble Composer: Jef
 f Beal Vocal Direction: Ximena Garnica LEIMAY Ensemble: Masanori Asaha
 ra, Krystel Copper, Derek DiMartini, Omer Ephron, Mario Galeano Rehear
 sal Assistants: Adi Eytan, Mary Lowman Frantic Beauty Process Book: Pr
 oducer: LEIMAY Production Team: Riley O’Rourke, Kinshasa Peterson, D
 rew Weinstein, Maddie Winchester\n\nFor more information visit http://
 conectom.leimay.org/events/frantic-beauty
DTSTART;TZID=America/Anguilla:20170914T200000
DTEND;TZID=America/Anguilla:20170917T220000
CATEGORIES:performance
LOCATION:BAM Fisher
WEBSITE:http://www.bam.org
URL:http://www.bam.org
CONTACT:
ORGANIZER:LEIMAY
ATTACH;FMTTYPE="image/jpeg":http://storage.ning.com/topology/rest/1.0/
 file/get/111741702?profile=original
ATTENDEE;ROLE=REQ-PARTICIPANT;PARTSTAT=ACCEPTED;RSVP=TRUE;CN="Drew Wei
 nstein":http://conectom.leimay.org/profile/DrewWeinstein
END:VEVENT
END:VCALENDAR
