BEGIN:VCALENDAR
PRODID:NingEventWidget-v1
VERSION:2.0
METHOD:PUBLISH
BEGIN:VTIMEZONE
TZID:America/Anguilla
X-LIC-LOCATION:America/Anguilla
BEGIN:STANDARD
TZOFFSETFROM:-0400
TZOFFSETTO:-0400
TZNAME:AST
DTSTART:19700101T000000
END:STANDARD
END:VTIMEZONE
BEGIN:VEVENT
UID:5831649:Event:2036
DTSTAMP:20260419T083424Z
SUMMARY:Flower Flash Mob
DESCRIPTION:Brooklyn is in!\nBring a flower.\n\nDearest butoh creature
 s all around the world!\nThis year, on the 27th of October Kazuo Ohno 
 would have reached the age of 104 years. Unfortunately he is not danci
 ng anymore in this spheres.\nI know we all are lonesome fighters but l
 et's celebrate all together the awesome gift what our father made to u
 s with a worldwide Butoh Flower Dance Flashmob.\nThe idea is that we f
 ind a time depending on the timezones where we all go out on the stree
 t (or wherever you wish) with our butoh communities and with a flower 
 in our hand and dance for him and show the world that butoh is very al
 ive and blooming over and over again. Let's vibrate with our dance to 
 the universe and send love outside in the hard times this world is fac
 ing right now.\nSo if you would like to organize that in your city/cou
 ntry please contact me that we can make a schedule so that all butoh d
 ancers wherever they are in the world can dance together at the same t
 ime and connect with each other.\nThank you!\n\nBig hugs!\nSonja Helle
 r\n\nFor more information visit http://conectom.leimay.org/events/flow
 er-flash-mob
DTSTART;TZID=America/Anguilla:20101027T100000
DTEND;TZID=America/Anguilla:20101027T110000
CATEGORIES:tribute
LOCATION:East River State Park
WEBSITE:
URL:
CONTACT:718 838 4170
ORGANIZER;CN="Theresa Magario tm":http://conectom.leimay.org/profile/T
 heresaMagario_tm
ATTACH;FMTTYPE="image/jpeg":http://storage.ning.com/topology/rest/1.0/
 file/get/111733193?profile=original
ATTENDEE;ROLE=REQ-PARTICIPANT;PARTSTAT=ACCEPTED;RSVP=TRUE;CN="mike dot
 hal":http://conectom.leimay.org/profile/mikedothal
ATTENDEE;ROLE=REQ-PARTICIPANT;PARTSTAT=ACCEPTED;RSVP=TRUE;CN="Theresa 
 Magario tm":http://conectom.leimay.org/profile/TheresaMagario_tm
END:VEVENT
END:VCALENDAR
