BEGIN:VCALENDAR
PRODID:NingEventWidget-v1
VERSION:2.0
METHOD:PUBLISH
BEGIN:VTIMEZONE
TZID:America/Anguilla
X-LIC-LOCATION:America/Anguilla
BEGIN:STANDARD
TZOFFSETFROM:-0400
TZOFFSETTO:-0400
TZNAME:AST
DTSTART:19700101T000000
END:STANDARD
END:VTIMEZONE
BEGIN:VEVENT
UID:5831649:Event:24468
DTSTAMP:20260419T174643Z
SUMMARY:Floating Point Waves
DESCRIPTION:Meditative stillness and physical extremity converge in a 
 mesmerizing experience constructed by LEIMAY, the duo behind CAVE, The
  New York Butoh Festival and the upcoming Soak Festival. Floating Poi
 nt Waves is an environment of strings, water, solo dance, real-time v
 ideo, and live electronic music that unveils the relationship between 
 the human body and natural elements. Movement, water, and light respon
 d to one another as an organic causal chain unfolds, echoing that of o
 ur own natural world. Startling performance and exquisite design rever
 berate through the space, framing a landscape where beauty coexists wi
 th darkness.\nConceived & Designed by Ximena Garnica & Shige Moriya C
 horeographed & Performed by Ximena Garnica  Video-Lighting Design by 
 Shige Moriya Lighting Design by Solomon Weisbard Sound Composition by 
 Jeremy D. Slater \nFloating Point Waves - world premiere\n\nDISCOUNT C
 ODE FOR CAVENEXUS MEMBERS:\n \"CAVEWAVES\" \n$13 until March 14\n$15
  March 14 - March 21\nThen regular price after March 21 \n* Valid to 
 CAVEnexus members only and limited to ONE ticket!\n\n\nFor more inform
 ation visit http://conectom.leimay.org/events/floating-point-waves
DTSTART;TZID=America/Anguilla:20120406T203000
DTEND;TZID=America/Anguilla:20120414T203000
CATEGORIES:performance
LOCATION:HERE
WEBSITE:http://here.org/about/directions-ticket-info/
URL:http://here.org/about/directions-ticket-info/
CONTACT:212.352.3101
ORGANIZER:HERE
ATTACH;FMTTYPE="image/jpeg":http://storage.ning.com/topology/rest/1.0/
 file/get/111734019?profile=original
ATTENDEE;ROLE=REQ-PARTICIPANT;PARTSTAT=ACCEPTED;RSVP=TRUE;CN=LEIMAY:ht
 tp://conectom.leimay.org/profile/LEIMAY_CAVE
END:VEVENT
END:VCALENDAR
