BEGIN:VCALENDAR
PRODID:NingEventWidget-v1
VERSION:2.0
METHOD:PUBLISH
BEGIN:VTIMEZONE
TZID:America/Anguilla
X-LIC-LOCATION:America/Anguilla
BEGIN:STANDARD
TZOFFSETFROM:-0400
TZOFFSETTO:-0400
TZNAME:AST
DTSTART:19700101T000000
END:STANDARD
END:VTIMEZONE
BEGIN:VEVENT
UID:5831649:Event:80304
DTSTAMP:20260419T131136Z
SUMMARY:Faustin Linyekula: In Search of Dinozord
DESCRIPTION:Scored with fragments of Mozart’s Requiem, metronomic ta
 ps on a typewriter, and live vocals by an opera star, In Search of Din
 ozord is a poetic, political fairy tale that begins, like all fairytal
 es, with “once upon a time…”   From there, Faustin Linyekula an
 d a small group of dancers and actors embark on a deeply personal jour
 ney as they search for what is left of their former dreams. In spoken 
 word and solo dances, they delve into the wrenching history of the Con
 go, recount stories from their childhoods, and mourn the loss of a fri
 end.\n\nPost-performance conversation on Sep 22 with Faustin Linyekula
  & NYU Faculty.\n\nMore info & tickets: http://bit.ly/2ffogzC\n\nFor m
 ore information visit http://conectom.leimay.org/events/faustin-linyek
 ula-in-search-of-dinozord
DTSTART;TZID=America/Anguilla:20170922T193000
DTEND;TZID=America/Anguilla:20170922T210000
CATEGORIES:performing, arts
LOCATION:NYU Skirball
WEBSITE:
URL:
CONTACT:
ORGANIZER:FIAF
ATTACH;FMTTYPE="image/jpeg":http://storage.ning.com/topology/rest/1.0/
 file/get/111741731?profile=original
ATTENDEE;ROLE=REQ-PARTICIPANT;PARTSTAT=ACCEPTED;RSVP=TRUE;CN="Elie Kho
 ury":http://conectom.leimay.org/profile/ElieKhoury
END:VEVENT
END:VCALENDAR
