BEGIN:VCALENDAR
PRODID:NingEventWidget-v1
VERSION:2.0
METHOD:PUBLISH
BEGIN:VTIMEZONE
TZID:America/Anguilla
X-LIC-LOCATION:America/Anguilla
BEGIN:STANDARD
TZOFFSETFROM:-0400
TZOFFSETTO:-0400
TZNAME:AST
DTSTART:19700101T000000
END:STANDARD
END:VTIMEZONE
BEGIN:VEVENT
UID:5831649:Event:26339
DTSTAMP:20260419T222903Z
SUMMARY:EUSH solo show at Pete's Candy Store with Kendy Gable
DESCRIPTION:EUSH creates baroque-pop, experimental-rock, alt-country, 
 mysterious-sea-shanty's. Their debut album ‘TREE’ is now available
  via Bandcamp.\nEUSH combine classic song writing with experimental so
 und aesthetics. Blended with a deep respect for the abstract, wrapped 
 in a pop song, with meditative vocals that melt into nebulous harmonie
 s and undulating rhythms evoking the warm, primitive colours of dusk.\
 nThe flowing, layered sound of EUSH is created by its founder, Sean va
 n Doornum.\nGreatness is great, but greyness is more subtle. It’s th
 e half-formed thought you have at the back of your mind. The name you 
 almost remember. The vague recurring dream.\n\"...evokes something aki
 n to Rachels jamming with Radiohead and Kate Bush and all that the pai
 ring might contain.\"\n- Musiczeitgeist Indie Artist Of The Month\"EUS
 H pulls us in, hypnotised and submissive...to another land, nightmaris
 h and abstract but somehow you don’t want to leave. Not yet, until t
 he story ends.\"\n- The Orange Press Q&A\"They will surely dim the lig
 hts and leave you wandering in the dark and getting lost in their song
 s.\" - John Ritchie, Musicfeeds.com\n\"Complexly structured, dark pop.
  With Zeppelin-y eastern tinges...reaching for Jeff Buckley or Thom Yo
 rke.\" - Clare Fletcher, The Drum Media\nhttp://eush.bandcamp.com/\n\n
 For more information visit http://conectom.leimay.org/events/eush-solo
 -show-at-pete-s-candy-store-with-kendy-gable
DTSTART;TZID=America/Anguilla:20120719T193000
DTEND;TZID=America/Anguilla:20120719T230000
CATEGORIES:musical, performance
LOCATION:Pete's Candy Store
WEBSITE:
URL:
CONTACT:
ORGANIZER;CN="Seán van Doornum":http://conectom.leimay.org/profile/Se
 anvanDoornum
ATTACH;FMTTYPE="image/jpeg":http://storage.ning.com/topology/rest/1.0/
 file/get/111734380?profile=original
ATTENDEE;ROLE=REQ-PARTICIPANT;PARTSTAT=ACCEPTED;RSVP=TRUE;CN="Seán va
 n Doornum":http://conectom.leimay.org/profile/SeanvanDoornum
ATTENDEE;ROLE=REQ-PARTICIPANT;PARTSTAT=TENTATIVE;RSVP=TRUE;CN="Theresa
  Magario tm":http://conectom.leimay.org/profile/TheresaMagario_tm
END:VEVENT
END:VCALENDAR
