BEGIN:VCALENDAR
PRODID:NingEventWidget-v1
VERSION:2.0
METHOD:PUBLISH
BEGIN:VTIMEZONE
TZID:America/Anguilla
X-LIC-LOCATION:America/Anguilla
BEGIN:STANDARD
TZOFFSETFROM:-0400
TZOFFSETTO:-0400
TZNAME:AST
DTSTART:19700101T000000
END:STANDARD
END:VTIMEZONE
BEGIN:VEVENT
UID:5831649:Event:38537
DTSTAMP:20260422T114755Z
SUMMARY:Eterinday // Chuck Mee and Witness Relocation
DESCRIPTION:Written by Chuck Mee / Directed & Choreographed by Dan
  Safer\nEterniday, the second collaboration between Chuck Mee and Wit
 ness Relocation, is a play (with lots of dancing) about all of human h
 istory happening in 24 hours, the random nature of life, the fact that
  we’re all going to die, and how amazing it is to fall in love.\nWit
 ness Relocation combines dance and theatre with “lo-fi mayhem” (Ti
 meOut NY) and the energy of a rock show, exploding contemporary cultur
 e into intensely physical, outrageous, poetic, and sometimes brutal pe
 rformances questioning the assumptions of life on the planet these day
 s.\n“[One of the] ensembles who now lead the city’s progressive th
 eater scene.”\n-The Village Voice\n\nFor more information visit http
 ://conectom.leimay.org/events/eterinday-chuck-mee-and-witness-relocati
 on
DTSTART;TZID=America/Anguilla:20130405T180000
DTEND;TZID=America/Anguilla:20130421T190000
CATEGORIES:"theater dance performance", "all of human history in 24 ho
 urs"
LOCATION:La MaMa
WEBSITE:https://web.ovationtix.com/trs/pr/921964
URL:https://web.ovationtix.com/trs/pr/921964
CONTACT:
ORGANIZER:
ATTACH;FMTTYPE="image/jpeg":http://storage.ning.com/topology/rest/1.0/
 file/get/111736273?profile=original
ATTENDEE;ROLE=REQ-PARTICIPANT;PARTSTAT=ACCEPTED;RSVP=TRUE;CN="Raul Zbe
 ngheci":http://conectom.leimay.org/profile/RaulZbengheci
END:VEVENT
END:VCALENDAR
