BEGIN:VCALENDAR
PRODID:NingEventWidget-v1
VERSION:2.0
METHOD:PUBLISH
BEGIN:VTIMEZONE
TZID:America/Anguilla
X-LIC-LOCATION:America/Anguilla
BEGIN:STANDARD
TZOFFSETFROM:-0400
TZOFFSETTO:-0400
TZNAME:AST
DTSTART:19700101T000000
END:STANDARD
END:VTIMEZONE
BEGIN:VEVENT
UID:5831649:Event:75424
DTSTAMP:20260424T053724Z
SUMMARY:SOAK 2017: Encounters with LEIMAY: Symposium, Solo Study, and 
 Studies for Frantic Beauty
DESCRIPTION:Encounters with LEIMAY Part 2:\nSymposium, Solo Study, and
  Studies for Frantic Beauty\n\nThis afternoon with LEIMAY revolves ar
 ound the words and concept of Frantic Beauty, which is the subject an
 d name of LEIMAY’s new piece, premiering at BAM in 2017. The afterno
 on begins with a symposium of guests from different fields who discuss
  the many ways of interpreting the words Frantic Beauty. Following, LE
 IMAY will present a performance Study for the piece. The afternoon wil
 l close with an additional Study, a solo choreographed by one of LEIMA
 Y’s Ensemble members, Derek Di Martini. Afterwards, audience member
 s are invited to share their impressions of the work in a round table 
 format.  \nSolo Study - Beat Your Heart Out with Derek DiMartini\nBe
 at Your Heart Out taps into the insatiable body; the frenzied state t
 hat attempts to destroy the line between carnal consumption and self-t
 ranscendence. Passion in aggression; Cracking open the self from the i
 nside out;  Expending beyond limits. This piece was developed with L
 EIMAY.\n\n\n \n\nEncounters with LEIMAY is a four-part series of talk
 s, performances, and training that, seen as a whole, offer a resonant 
 environment that mirrors LEIMAY’s artistic practice. Encounters with
  LEIMAY is conceived by artistic directors Ximena Garnica and Shige Mo
 riya as a chance to see the ensemble at its home, uncovering the layer
 s of thought, practice, and experimentation that compose LEIMAY’s wo
 rk. This series includes the LEIMAY LUDUS Summer Intensive, a lecture 
 demonstration on LEIMAY LUDUS, and symposium and performance studies f
 ocused around LEIMAY’s new piece, Frantic Beauty, premiering at BAM 
 in September 2017.\n\n \n\nSunday, June 11th, 2pm-6pm\n\nSpace is lim
 ited. Online RSVP Required.\n\n\nFor more information visit http://con
 ectom.leimay.org/events/encounters-with-leimay-symposium-and-studies-f
 or-frantic-beauty
DTSTART;TZID=America/Anguilla:20170611T140000
DTEND;TZID=America/Anguilla:20170611T180000
CATEGORIES:symposium
LOCATION:334 S 5th St
WEBSITE:http://leimaymain.cavearts.org/?p=5446
URL:http://leimaymain.cavearts.org/?p=5446
CONTACT:347.838.4677
ORGANIZER;CN="Drew Weinstein":http://conectom.leimay.org/profile/DrewW
 einstein
ATTACH;FMTTYPE="image/jpeg":http://storage.ning.com/topology/rest/1.0/
 file/get/111741806?profile=original
ATTENDEE;ROLE=REQ-PARTICIPANT;PARTSTAT=ACCEPTED;RSVP=TRUE;CN="Drew Wei
 nstein":http://conectom.leimay.org/profile/DrewWeinstein
ATTENDEE;ROLE=REQ-PARTICIPANT;PARTSTAT=ACCEPTED;RSVP=TRUE;CN="Maddie W
 inchester":http://conectom.leimay.org/profile/MaddieWinchester
END:VEVENT
END:VCALENDAR
