BEGIN:VCALENDAR
PRODID:NingEventWidget-v1
VERSION:2.0
METHOD:PUBLISH
BEGIN:VTIMEZONE
TZID:America/Anguilla
X-LIC-LOCATION:America/Anguilla
BEGIN:STANDARD
TZOFFSETFROM:-0400
TZOFFSETTO:-0400
TZNAME:AST
DTSTART:19700101T000000
END:STANDARD
END:VTIMEZONE
BEGIN:VEVENT
UID:5831649:Event:31798
DTSTAMP:20260420T012109Z
SUMMARY:Emergency Cheesecake // Whitney Museum
DESCRIPTION:Curated by Wade Guyton and Jay Sanders,EMERGENCY CHEESEC
 AKE will be an evening of performance featuring young, New York City
 based artists. In their individual practices, these artists explore 
 a vast spectrum of media and form, bringing various skillsets to the f
 orefront of their creative processes. Presenting an array of music, li
 ve DJ sets, video work, screenings, and performance experiences, the e
 vening will be an opportunity for further experimentation and collabor
 ation.\nWith performances, screenings, and music by: I.U.D.  Virginia
  Overton  David Mramor, Amanbir Singh & Adriane Schramm  James Campb
 ell  Trailer for the upcoming film “Sorry, can’t talk” by Lisa 
 Jo & Amy Yao  P2PBSH “the gush” W! H! L! C! (Sam Pulitzer & Mathi
 eu Malouf)  Zach Steinman & Ben Tear Jeanette Mundt  Israel Lund\nSt
 anding room only. Free with Museum admission, which is pay-what-you-w
 ish on Fridays, 6–9 pm; no special tickets or reservations are requi
 red. Members enjoy complimentary and express entry to the Museum. \
 n\nFor more information visit http://conectom.leimay.org/events/emerge
 ncy-cheesecake-whitney-museum
DTSTART;TZID=America/Anguilla:20121130T180000
DTEND;TZID=America/Anguilla:20121130T220000
CATEGORIES:"young performing artists at a museum"
LOCATION:Whitney Museum of American Art
WEBSITE:http://whitney.org/Events/EmergencyCheesecake
URL:http://whitney.org/Events/EmergencyCheesecake
CONTACT:
ORGANIZER:
ATTACH;FMTTYPE="image/jpeg":http://storage.ning.com/topology/rest/1.0/
 file/get/111735572?profile=original
ATTENDEE;ROLE=REQ-PARTICIPANT;PARTSTAT=ACCEPTED;RSVP=TRUE;CN="Raul Zbe
 ngheci":http://conectom.leimay.org/profile/RaulZbengheci
END:VEVENT
END:VCALENDAR
