BEGIN:VCALENDAR
PRODID:NingEventWidget-v1
VERSION:2.0
METHOD:PUBLISH
BEGIN:VTIMEZONE
TZID:America/Anguilla
X-LIC-LOCATION:America/Anguilla
BEGIN:STANDARD
TZOFFSETFROM:-0400
TZOFFSETTO:-0400
TZNAME:AST
DTSTART:19700101T000000
END:STANDARD
END:VTIMEZONE
BEGIN:VEVENT
UID:5831649:Event:59925
DTSTAMP:20260419T162251Z
SUMMARY:Embodied Freedom in Art & Dance with Barbara Forbes
DESCRIPTION:\n\nFeldenkrais is an artist's dream come true: a relaxing
  combination of attention and small movements which improve the way yo
 ur brain and body are organized. Habitual patterns melt away, new opti
 ons appear, and better art is possible!\n\n$35-$45\n\n More Informati
 on here.\n\n\n\nFor more information visit http://conectom.leimay.org/
 events/embodied-freedom-in-art-dance-with-barbara-forbes
DTSTART;TZID=America/Anguilla:20150403T183000
DTEND;TZID=America/Anguilla:20150403T213000
CATEGORIES:workshop
LOCATION:Feldenkrais Institute of New York
WEBSITE:http://feldenkraisfoundation.org/programs/workshops/
URL:http://feldenkraisfoundation.org/programs/workshops/
CONTACT:
ORGANIZER:
ATTACH;FMTTYPE="image/jpeg":http://storage.ning.com/topology/rest/1.0/
 file/get/111739528?profile=original
ATTENDEE;ROLE=REQ-PARTICIPANT;PARTSTAT=ACCEPTED;RSVP=TRUE;CN="Theresa 
 Magario tm":http://conectom.leimay.org/profile/TheresaMagario_tm
END:VEVENT
END:VCALENDAR
