BEGIN:VCALENDAR
PRODID:NingEventWidget-v1
VERSION:2.0
METHOD:PUBLISH
BEGIN:VTIMEZONE
TZID:America/Anguilla
X-LIC-LOCATION:America/Anguilla
BEGIN:STANDARD
TZOFFSETFROM:-0400
TZOFFSETTO:-0400
TZNAME:AST
DTSTART:19700101T000000
END:STANDARD
END:VTIMEZONE
BEGIN:VEVENT
UID:5831649:Event:38315
DTSTAMP:20260419T215425Z
SUMMARY:Ei Arakawa // Concrete Escort I, II, III, IV
DESCRIPTION:New York based Japanese performance artist Ei Arakawa invi
 tes painters, sculptors, dancers, filmmakers, and archivists to form a
  temporal group addressing Gutai today. Resulting in a performative ex
 hibition tour where the audience will be escorted and repositioned, em
 phasis will be on the power dynamic within Gutai, women and men; singu
 larity and plurality; performance and painting. Tasked to communicate 
 the diversity of Gutai activities, each tour will journey along a diff
 erent route. Participants include Ei Arakawa, Simone Forti, Jutta Koet
 her, Andrew Lampert, and Caitlin MacBride.\n\nFor more information vis
 it http://conectom.leimay.org/events/ei-arakawa-concrete-escort-i-ii-i
 ii-iv
DTSTART;TZID=America/Anguilla:20130322T180000
DTEND;TZID=America/Anguilla:20130322T200000
CATEGORIES:gutai, "museum performance", "participatory performance", e
 xpensive
LOCATION:Guggenheim
WEBSITE:http://www.guggenheim.org/new-york/calendar-and-events/2013/03
 /22/concrete-escort-i-ii-iii-iv/i/15379
URL:http://www.guggenheim.org/new-york/calendar-and-events/2013/03/22/
 concrete-escort-i-ii-iii-iv/i/15379
CONTACT:
ORGANIZER:
ATTACH;FMTTYPE="image/jpeg":http://storage.ning.com/topology/rest/1.0/
 file/get/111736167?profile=original
ATTENDEE;ROLE=REQ-PARTICIPANT;PARTSTAT=ACCEPTED;RSVP=TRUE;CN="Raul Zbe
 ngheci":http://conectom.leimay.org/profile/RaulZbengheci
END:VEVENT
END:VCALENDAR
