BEGIN:VCALENDAR
PRODID:NingEventWidget-v1
VERSION:2.0
METHOD:PUBLISH
BEGIN:VTIMEZONE
TZID:America/Anguilla
X-LIC-LOCATION:America/Anguilla
BEGIN:STANDARD
TZOFFSETFROM:-0400
TZOFFSETTO:-0400
TZNAME:AST
DTSTART:19700101T000000
END:STANDARD
END:VTIMEZONE
BEGIN:VEVENT
UID:5831649:Event:79947
DTSTAMP:20260419T161629Z
SUMMARY:Earthdance
DESCRIPTION:The IMAGINE Festival: Film, Technology, and the Body in Ac
 tion\n\nThe IMAGINE Festival (IMAGINE) explores relationships between 
 technology and the human body in action. The festival will include a w
 eekend of film screenings, technology-based workshops, dialogue sessio
 ns, and installations throughout the Earthdance grounds.\n\nExperiment
 ing with embodied and ecologically grounded approaches to technology, 
 multidisciplinary artists will present work from their residencies thi
 s past Spring and Fall at Earthdance at this 3-day festival, including
  films, installations, and immersive experiences.\n\nIMAGINE is co-pre
 sented and co-produced by Earthdance and Dance Films Association. Offe
 red in collaboration with the Northampton Film Festival.\n\nMore info 
 at www.earthdance.net/imagine\n\nFor more information visit http://co
 nectom.leimay.org/events/earthdance
DTSTART;TZID=America/Anguilla:20170929T170000
DTEND;TZID=America/Anguilla:20171001T150000
CATEGORIES:festival
LOCATION:Earthdance
WEBSITE:http://www.earthdance.net
URL:http://www.earthdance.net
CONTACT:(413) 634-5678
ORGANIZER;CN=Earthdance:http://conectom.leimay.org/profile/Earthdance
ATTACH;FMTTYPE="image/jpeg":http://storage.ning.com/topology/rest/1.0/
 file/get/111741757?profile=original
ATTENDEE;ROLE=REQ-PARTICIPANT;PARTSTAT=ACCEPTED;RSVP=TRUE;CN=Earthdanc
 e:http://conectom.leimay.org/profile/Earthdance
END:VEVENT
END:VCALENDAR
