BEGIN:VCALENDAR
PRODID:NingEventWidget-v1
VERSION:2.0
METHOD:PUBLISH
BEGIN:VTIMEZONE
TZID:America/Anguilla
X-LIC-LOCATION:America/Anguilla
BEGIN:STANDARD
TZOFFSETFROM:-0400
TZOFFSETTO:-0400
TZNAME:AST
DTSTART:19700101T000000
END:STANDARD
END:VTIMEZONE
BEGIN:VEVENT
UID:5831649:Event:45133
DTSTAMP:20260419T163616Z
SUMMARY:DUAL PERSPECTIVE
DESCRIPTION:\nTickets: $15 in advance or $18 at the door (cash only)
 \nDUAL PERSPECTIVE is a self-produced, split bill performance taking p
 lace on March 20th & 21st at the Center for Performance Research.\nCEM
 A Dance Artistic Director Rachel Hagan, and Brooklyn-based choreograph
 er Lindsey Mandolini will each be premiering brand new 30-minute works
 . Both choreographers developed and defined new movement within a huma
 n context. Lindsey’s new work, slight of hand, was inspired by the
  anatomy of the human hand and its evolutionary history. Rachel’s ne
 w work for CEMA dance addresses feelings of longing, satisfaction, and
  discomfort. The interaction of these experiences are explored in Con
 tent. Undone. Join us for physical and thought-provoking movement from
  two young, working New York choreographers.\nA post-performance recep
 tion will be held on Friday, March 21st.\nTwo choreographers.\nTwo pr
 emieres.\nTwo evenings.\nCEMA dance\nContent.Undone\nChoreography by: 
 Rachel Hagan\nPerformed by: Jane Cracovaner, Elizabeth Hepp, Catherine
  Kirk, Daniel Mont-Eton, and Kyleigh Sackandy\nslight of hand\nChoreog
 raphy by: Lindsey Mandolini\nPerformed by: Allie Harris, Amanda MacLeo
 d, Lindsey Mandolini, and Julie Miller\nTo learn more visit cema-danc
 e.com & lindseymandolini.com.\n\n\nFor more information visit http:/
 /conectom.leimay.org/events/dual-perspective
DTSTART;TZID=America/Anguilla:20140320T193000
DTEND;TZID=America/Anguilla:20140321T193000
CATEGORIES:dance
LOCATION:CPR
WEBSITE:http://www.cprnyc.org/events/dual-perspective/
URL:http://www.cprnyc.org/events/dual-perspective/
CONTACT:
ORGANIZER:Linsdey
ATTACH;FMTTYPE="image/jpeg":http://storage.ning.com/topology/rest/1.0/
 file/get/111737968?profile=original
ATTENDEE;ROLE=REQ-PARTICIPANT;PARTSTAT=ACCEPTED;RSVP=TRUE;CN="Theresa 
 Magario tm":http://conectom.leimay.org/profile/TheresaMagario_tm
END:VEVENT
END:VCALENDAR
