BEGIN:VCALENDAR
PRODID:NingEventWidget-v1
VERSION:2.0
METHOD:PUBLISH
BEGIN:VTIMEZONE
TZID:America/Anguilla
X-LIC-LOCATION:America/Anguilla
BEGIN:STANDARD
TZOFFSETFROM:-0400
TZOFFSETTO:-0400
TZNAME:AST
DTSTART:19700101T000000
END:STANDARD
END:VTIMEZONE
BEGIN:VEVENT
UID:5831649:Event:28019
DTSTAMP:20260422T202731Z
SUMMARY:DD Dorvillier / human future dance corps: Danza Permanente
DESCRIPTION:The choreography of Danza Permanente comes from a musica
 l composition created in Vienna two centuries ago by a deaf man, Beeth
 oven. In this new work, the score is transposed into movement for four
  dancers, each taking the part of a single instrument. They embody the
  musical structure and dynamics of the string quartet, behaving as sou
 nd, in silence. The transposition is by choreographer DD Dorvillier 
 and composer Zeena Parkins, with dancers Fabian Barba, Nuno Bizarro,
  Walter Dundervill, Naiara Mendioroz, and rehearsal assistant Heather
  Kravas. The lighting design by Thomas Dunn and the acoustic enviro
 nment by Ms. Parkins follow the score, framing the silence and the vis
 ible music. \nIn conjunction with the evening performances of Danza 
 Permanente, human future dance corps hosts What we do, a day of lectur
 es, discussion, and practice, covering silence, music, dance, you, cho
 reography, labor, and the universe. Includes a listening session in th
 e dark of Beethoven's Opus 132 in A minor, sharing of strategies and p
 rocesses used to create a translation of its score with DD Dorvillier,
  lectures by Stefania de Kenessey and Neil Greenberg, and a mini-conc
 ert by Zeena Parkins, plus time for talking about it all. Saturday, Se
 ptember 29, 10am–4pm. FREE / B.Y.O.L. (bring your own lunch) / RSVP 
 to rsvp@humanfuturedancecorps.org.\n\nFor more information visit http:
 //conectom.leimay.org/events/dd-dorvillier-human-future-dance-corps-da
 nza-permanente
DTSTART;TZID=America/Anguilla:20120929T100000
DTEND;TZID=America/Anguilla:20120929T220000
CATEGORIES:dance, panel
LOCATION:The Kitchen
WEBSITE:http://www.thekitchen.org/event/324/0/1/
URL:http://www.thekitchen.org/event/324/0/1/
CONTACT:
ORGANIZER:
ATTACH;FMTTYPE="image/jpeg":http://storage.ning.com/topology/rest/1.0/
 file/get/111734648?profile=original
ATTENDEE;ROLE=REQ-PARTICIPANT;PARTSTAT=ACCEPTED;RSVP=TRUE;CN="Raul Zbe
 ngheci":http://conectom.leimay.org/profile/RaulZbengheci
END:VEVENT
END:VCALENDAR
