BEGIN:VCALENDAR
PRODID:NingEventWidget-v1
VERSION:2.0
METHOD:PUBLISH
BEGIN:VTIMEZONE
TZID:America/Anguilla
X-LIC-LOCATION:America/Anguilla
BEGIN:STANDARD
TZOFFSETFROM:-0400
TZOFFSETTO:-0400
TZNAME:AST
DTSTART:19700101T000000
END:STANDARD
END:VTIMEZONE
BEGIN:VEVENT
UID:5831649:Event:27944
DTSTAMP:20260422T120339Z
SUMMARY:DD Dorvillier / human future dance corps: Danza Permanente
DESCRIPTION:$15\n\nThe choreographyÂ of Danza PermanenteÂ comes from a
  musical composition created in Vienna two centuries ago by a deaf man
 , Beethoven. In this new work, the score is transposed into movement f
 or four dancers, each taking the part of a single instrument. They emb
 ody the musical structure and dynamics of the string quartet, behaving
  as sound, in silence. The transposition is by choreographerÂ DD Dorvi
 llierÂ and composerÂ Zeena Parkins, with dancersÂ Fabian Barba, Nuno B
 izarro, Walter Dundervill, Naiara Mendioroz, and rehearsal assistantÂ 
 Heather Kravas.Â The lighting design byÂ Thomas DunnÂ and the acoustic
  environment by Ms. Parkins follow the score, framing the silence and 
 the visible music.Â \nIn conjunction with the evening performances ofÂ
  Danza Permanente, human future dance corps hosts What we do, a day of
  lectures, discussion, and practice, covering silence, music, dance, y
 ou, choreography, labor, and the universe. Includes a listening sessio
 n in the dark of Beethoven's Opus 132 in A minor, sharing of strategie
 s and processes used to create a translation of its score with DD Dorv
 illier, lectures by Stefania de KenesseyÂ and Neil Greenberg, and a mi
 ni-concert by Zeena Parkins, plus time for talking about it all. Satur
 day, September 29, 10amâ€“4pm. FREE / B.Y.O.L. (bring your own lunch) 
 / RSVP to rsvp@humanfuturedancecorps.org.\n\nFor more information visi
 t http://conectom.leimay.org/events/dd-dorvillier-human-future-dance-c
 orps-danza-permanente-1
DTSTART;TZID=America/Anguilla:20120928T100000
DTEND;TZID=America/Anguilla:20120928T220000
CATEGORIES:dance, panel
LOCATION:The Kitchen
WEBSITE:http://www.thekitchen.org/event/324/0/1/
URL:http://www.thekitchen.org/event/324/0/1/
CONTACT:
ORGANIZER:
ATTACH;FMTTYPE="image/jpeg":http://storage.ning.com/topology/rest/1.0/
 file/get/111734648?profile=original
ATTENDEE;ROLE=REQ-PARTICIPANT;PARTSTAT=ACCEPTED;RSVP=TRUE;CN="Raul Zbe
 ngheci":http://conectom.leimay.org/profile/RaulZbengheci
END:VEVENT
END:VCALENDAR
