BEGIN:VCALENDAR
PRODID:NingEventWidget-v1
VERSION:2.0
METHOD:PUBLISH
BEGIN:VTIMEZONE
TZID:America/Anguilla
X-LIC-LOCATION:America/Anguilla
BEGIN:STANDARD
TZOFFSETFROM:-0400
TZOFFSETTO:-0400
TZNAME:AST
DTSTART:19700101T000000
END:STANDARD
END:VTIMEZONE
BEGIN:VEVENT
UID:5831649:Event:43624
DTSTAMP:20260419T173225Z
SUMMARY:Curate NYC
DESCRIPTION:Dear Friends and Colleagues,\nThis is the last week of the
  Brooklyn show of CurateNYC, the citywide art event, which includes a 
 new photo from myÂ de-compositionÂ series. For those of you interested
  in going, the show is at Gallery Brooklyn, 351 Van Brunt Street in Re
 d Hook. Gallery Brooklyn's hours areÂ ThursdayÂ -Â Saturday 12 - 7pmÂ 
 andÂ Sunday 12 - 5pm. The last day of the exhibition isÂ November 17.Â
  \nAside from my photo, the show features work from 30 artists in diff
 erent genre (painting, photography, sculpture, printing). When I atten
 ded the opening, I was impressed by the range and quality of the show 
 as a whole. There's a surprising amount of strong work in it. It's def
 initely worth seeing, I think.Â I hope to get to the show again before
  it closes, so perhaps I'll see some of you there.Â \nSincerely,\nHarr
 y\n{image: de-composition 1990}\n\nFor more information visit http://c
 onectom.leimay.org/events/curate-nyc
DTSTART;TZID=America/Anguilla:20131114T120000
DTEND;TZID=America/Anguilla:20131114T190000
CATEGORIES:exhibition
LOCATION:Gallery Brooklyn
WEBSITE:http://www.curatenyc.org/2013/?s=d513cf2472&formid=77&taxo%5B0
 %5D%5Bname%5D=category&taxo%5B0%5D%5Bterm%5D%5B%5D=curate-nyc&taxo%5B1
 %5D%5Bname%5D=art-medium&taxo%5B1%5D%5Bterm%5D%5B%5D=photography&taxo%
 5B2%5D%5Bname%5D=borough&taxo%5B2%5D%5Bterm%5D%5B%5D=brooklyn&skeyword
 =Harry+Newman&wqsfsubmit=Search
URL:http://www.curatenyc.org/2013/?s=d513cf2472&formid=77&taxo%5B0%5D%
 5Bname%5D=category&taxo%5B0%5D%5Bterm%5D%5B%5D=curate-nyc&taxo%5B1%5D%
 5Bname%5D=art-medium&taxo%5B1%5D%5Bterm%5D%5B%5D=photography&taxo%5B2%
 5D%5Bname%5D=borough&taxo%5B2%5D%5Bterm%5D%5B%5D=brooklyn&skeyword=Har
 ry+Newman&wqsfsubmit=Search
CONTACT:
ORGANIZER:Curate NYC
ATTACH;FMTTYPE="image/jpeg":http://storage.ning.com/topology/rest/1.0/
 file/get/111737606?profile=original
ATTENDEE;ROLE=REQ-PARTICIPANT;PARTSTAT=ACCEPTED;RSVP=TRUE;CN="mike dot
 hal":http://conectom.leimay.org/profile/mikedothal
ATTENDEE;ROLE=REQ-PARTICIPANT;PARTSTAT=ACCEPTED;RSVP=TRUE;CN="Theresa 
 Magario tm":http://conectom.leimay.org/profile/TheresaMagario_tm
END:VEVENT
END:VCALENDAR
