BEGIN:VCALENDAR
PRODID:NingEventWidget-v1
VERSION:2.0
METHOD:PUBLISH
BEGIN:VTIMEZONE
TZID:America/Anguilla
X-LIC-LOCATION:America/Anguilla
BEGIN:STANDARD
TZOFFSETFROM:-0400
TZOFFSETTO:-0400
TZNAME:AST
DTSTART:19700101T000000
END:STANDARD
END:VTIMEZONE
BEGIN:VEVENT
UID:5831649:Event:75041
DTSTAMP:20260419T111557Z
SUMMARY:CULTUREMART 2017
DESCRIPTION:CULTUREMART is HERE's annual festival for the HERE Artist 
 Residency Program (HARP), where process becomes the focus. This yearâ€
 ™s program features 9 workshop presentations that blur the boundaries 
 between dance, theatre, music, new media, puppetry, and visual art.\n\
 nCLICK HERE FOR TICKETS\n\nMarch 15-257pmSaturday, Mar 25 @ 2pm\n\n\nC
 ULTUREMART Calendar:\n\nAssembled IdentityPurva Bedi, Kristin Marting,
  and Mariana Newhard+Â The AccountantTrey LyfordMarch 15 & 16 @ 7PMHyb
 rid Suite No. 2: The Carmen VariationsGisela Cardenas and Milica Paran
 osic / Intandem Lab+Â ThisTreeLeah ColoffMarch 18 & 19 @ 7PMSoundstage
 Rob Roth+Â American WeatherChris GreenMarch 21 & 22 @ 7PMDing Dong It'
 s the OceanRADY&BLOOM Collective Playmaking+Â The Black History Museum
 ...Zoey Martinson / Smoke & Mirrors CollaborativeMarch 24 & 25 @ 7PMTa
 ylor MacÂ March 25 @ 2PM\n\nFor more information visit http://conectom
 .leimay.org/events/culturemart-2017
DTSTART;TZID=America/Anguilla:20170315T190000
DTEND;TZID=America/Anguilla:20170325T220000
CATEGORIES:performance
LOCATION:HERE Arts Center
WEBSITE:http://here.org/shows/detail/1877/
URL:http://here.org/shows/detail/1877/
CONTACT:
ORGANIZER;CN="Drew Weinstein":http://conectom.leimay.org/profile/DrewW
 einstein
ATTACH;FMTTYPE="image/jpeg":http://storage.ning.com/topology/rest/1.0/
 file/get/111740942?profile=original
ATTENDEE;ROLE=REQ-PARTICIPANT;PARTSTAT=ACCEPTED;RSVP=TRUE;CN="Drew Wei
 nstein":http://conectom.leimay.org/profile/DrewWeinstein
END:VEVENT
END:VCALENDAR
