BEGIN:VCALENDAR
PRODID:NingEventWidget-v1
VERSION:2.0
METHOD:PUBLISH
BEGIN:VTIMEZONE
TZID:America/Anguilla
X-LIC-LOCATION:America/Anguilla
BEGIN:STANDARD
TZOFFSETFROM:-0400
TZOFFSETTO:-0400
TZNAME:AST
DTSTART:19700101T000000
END:STANDARD
END:VTIMEZONE
BEGIN:VEVENT
UID:5831649:Event:45076
DTSTAMP:20260419T145432Z
SUMMARY:CSSD Free Movement Workshop
DESCRIPTION:\nThe Royal Central School of Speech and Drama, the Univer
 sity of London's dedicated conservatoire of drama, is holding intern
 ational auditions and interviews in New York.\nAs part of the overseas
  auditions tour, we will be holding a free practical workshop to off
 er an insight into Central's pioneering MA Movement Studies course. 
 The session will be led by course tutor, Dr. Jane Munro, and participa
 nts will be lead through a series exercises in sensory experience and 
 contact dance based tasks, with a view to enabling performers to work 
 with sensory and emotional awareness in relation to devising scenes an
 d creating movement for theatre.\nThe workshop will be held at Ripley
 -Grier Studios and will start at 4:00pm lasting approximately 90 mi
 nutes; there will be an opportunity for those who would like to be in
 terviewed for the course, immediately after this workshop.\nContact Ad
 missions to book your place to attend - admissions@cssd.ac.uk\nMA Mov
 ement Studies is a pioneering programme for those who wish to teach an
 d direct movement. It is designed for those with skills from a range o
 f physical disciplines (e.g. sports, yoga, dance, physical theatre) an
 d who want to pursue careers as:\n        - Actor movement tea
 chers         - Movement directors\n        - Theatre 
 choreographers\n        - Movement for ensemble theatre-makers
 \n        - Movement coaches for film/animation/puppetry.\nTo 
 find out more about Central's MA Movement Studies course, visit our w
 ebsite.\n\n\n\n\n\n © Central School of Speech & Drama, Eton Avenue, 
 London NW3 3HY, UK\nTel + 44 (0)20 7722 8183 www.cssd.ac.uk\n\nFor m
 ore information visit http://conectom.leimay.org/events/cssd-free-move
 ment-workshop
DTSTART;TZID=America/Anguilla:20140322T160000
DTEND;TZID=America/Anguilla:20140322T173000
CATEGORIES:workshop
LOCATION:Ripley-Grier Studios
WEBSITE:
URL:
CONTACT:
ORGANIZER:The Royal Central School of Speech and Drama
ATTACH;FMTTYPE="image/jpeg":http://storage.ning.com/topology/rest/1.0/
 file/get/111738055?profile=original
ATTENDEE;ROLE=REQ-PARTICIPANT;PARTSTAT=ACCEPTED;RSVP=TRUE;CN="Theresa 
 Magario tm":http://conectom.leimay.org/profile/TheresaMagario_tm
END:VEVENT
END:VCALENDAR
