BEGIN:VCALENDAR
PRODID:NingEventWidget-v1
VERSION:2.0
METHOD:PUBLISH
BEGIN:VTIMEZONE
TZID:America/Anguilla
X-LIC-LOCATION:America/Anguilla
BEGIN:STANDARD
TZOFFSETFROM:-0400
TZOFFSETTO:-0400
TZNAME:AST
DTSTART:19700101T000000
END:STANDARD
END:VTIMEZONE
BEGIN:VEVENT
UID:5831649:Event:74905
DTSTAMP:20260419T124254Z
SUMMARY:CRAWL: Chapter 7
DESCRIPTION:march 17-18, 2017 | 8:00 PM\n@ INDUSTRY CITY DISTILLERY\nT
 ICKETS\n\nartists:\nBrendan Drake ChoreographyDante Brown | Warehouse 
 DanceNir Arieli\n\nArieli, Brown, and Drake tackle aspects of queernes
 s, gender stereotypes, and isolation in CRAWL: Chapter 7. Arieli fills
  the space with subtle, ethereal images centered around contemporary m
 ale identity; Brown presents an elegant parody of gender norms in the 
 bromance-inspired Package; and in The Big Finish, Drake demonstrates t
 he paradox of isolation and depression in the midst of boisterous self
 -expression.\n\nWhile the artists differ in tone and approach, they sh
 are a nuanced perception of multi-layered identity. CRAWL: Chapter 7 r
 eveals the insufficiency of stereotype, and its resulting psychologica
 l impact.\n\nFor more information visit http://conectom.leimay.org/eve
 nts/crawl-chapter-7
DTSTART;TZID=America/Anguilla:20170317T200000
DTEND;TZID=America/Anguilla:20170318T220000
CATEGORIES:performance, "&", exhibition
LOCATION:Industry City Distillery
WEBSITE:http://industrycitydistillery.com/
URL:http://industrycitydistillery.com/
CONTACT:
ORGANIZER:Kate Ladenheim/The People Movers
ATTACH;FMTTYPE="image/jpeg":http://storage.ning.com/topology/rest/1.0/
 file/get/111741582?profile=original
ATTENDEE;ROLE=REQ-PARTICIPANT;PARTSTAT=ACCEPTED;RSVP=TRUE;CN="Kate Lad
 enheim":http://conectom.leimay.org/profile/KateLadenheim
END:VEVENT
END:VCALENDAR
