BEGIN:VCALENDAR
PRODID:NingEventWidget-v1
VERSION:2.0
METHOD:PUBLISH
BEGIN:VTIMEZONE
TZID:America/Anguilla
X-LIC-LOCATION:America/Anguilla
BEGIN:STANDARD
TZOFFSETFROM:-0400
TZOFFSETTO:-0400
TZNAME:AST
DTSTART:19700101T000000
END:STANDARD
END:VTIMEZONE
BEGIN:VEVENT
UID:5831649:Event:60867
DTSTAMP:20260419T155416Z
SUMMARY:Cooper Union Interdisciplinary Lecture Series - Matthew Coolid
 ge
DESCRIPTION:\nCooper Union\n\nInterdisciplinary Lecture Series\n\n\n\n
 \n\n\n\n\nThis spring, The Cooper Union School of Art presents a serie
 s of lectures, reflecting a broad range of contemporary art issues. Sp
 eakers include artists, writers, and thinkers currently engaged in a v
 ariety of practices. The emphasis is on interdisciplinary approaches, 
 presenting new voices, international perspectives and scholarship acro
 ss multiple fields. The series constitutes a lively forum for the exch
 ange of ideas between practitioners, students, faculty, and the public
 . \n\n\n\nApril 27: Matthew Coolidge\"Anthropogeomorphology and the C
 enter for Land Use Interpretation\"Matthew Coolidge is the founder and
  Director of the Center for Land Use Interpretation, an education and 
 research organization based in Los Angeles. The Center produces exhibi
 tions, presentations, tours, publications, online resources, and other
  public programs that examine, describe, and explain the built landsca
 pe of the United States.All talks are free and open to the public. Th
 e spring 2015 series is part of the Robert Lehman Visiting Artist prog
 ram. \n\n\nFor more information visit http://conectom.leimay.org/even
 ts/cooper-union-interdisciplinary-lecture-series-matthew-coolidge
DTSTART;TZID=America/Anguilla:20150427T183000
DTEND;TZID=America/Anguilla:20150427T194500
CATEGORIES:lecture
LOCATION:The Cooper Union School of Art Rose Auditorium
WEBSITE:http://www.cooper.edu
URL:http://www.cooper.edu
CONTACT:
ORGANIZER:
ATTACH;FMTTYPE="image/jpeg":http://storage.ning.com/topology/rest/1.0/
 file/get/111739675?profile=original
ATTENDEE;ROLE=REQ-PARTICIPANT;PARTSTAT=ACCEPTED;RSVP=TRUE;CN=LEIMAY:ht
 tp://conectom.leimay.org/profile/LEIMAY_CAVE
END:VEVENT
END:VCALENDAR
