BEGIN:VCALENDAR
PRODID:NingEventWidget-v1
VERSION:2.0
METHOD:PUBLISH
BEGIN:VTIMEZONE
TZID:America/Anguilla
X-LIC-LOCATION:America/Anguilla
BEGIN:STANDARD
TZOFFSETFROM:-0400
TZOFFSETTO:-0400
TZNAME:AST
DTSTART:19700101T000000
END:STANDARD
END:VTIMEZONE
BEGIN:VEVENT
UID:5831649:Event:24102
DTSTAMP:20260419T192404Z
SUMMARY:Consumata's Party Explosion
DESCRIPTION:Andrew's band, Consumata, is playing a rad house party in 
 Brooklyn this Saturday.\n\nParty starts at 9, music starts around 10:3
 0, no cover, but $5 for all-you-can drink beer and there will also be 
 a bar.\nActs include:\nCapitata (latin-rock-reggae from NJ)\nConsumata
  (polka-cumbia-punky-reggae-gypsy mutation from Brooklyn)\nLos Skarron
 eros (ska ska ska!)\nSee you there!\n\n\n\nFor more information visit 
 http://conectom.leimay.org/events/consumata-s-party-explosion
DTSTART;TZID=America/Anguilla:20120121T210000
DTEND;TZID=America/Anguilla:20120122T030000
CATEGORIES:concert, "party!"
LOCATION:Consumata's Party Den
WEBSITE:http://maps.google.com/maps?q=221+stuyvesant&oe=utf-8&rls=org.
 mozilla:en-US:official&client=firefox-a&um=1&ie=UTF-8&hq=&hnear=0x89c2
 5c74e6c6e051:0xba4b5fe053122421,221+Stuyvesant+Ave,+Brooklyn,+NY+11221
 &gl=us&ei=TcYYT6mgPKL20gHl8o25Cw&sa=X&oi=geocode_result&ct=image&resnu
 m=1&ved=0CCoQ8gEwAA
URL:http://maps.google.com/maps?q=221+stuyvesant&oe=utf-8&rls=org.mozi
 lla:en-US:official&client=firefox-a&um=1&ie=UTF-8&hq=&hnear=0x89c25c74
 e6c6e051:0xba4b5fe053122421,221+Stuyvesant+Ave,+Brooklyn,+NY+11221&gl=
 us&ei=TcYYT6mgPKL20gHl8o25Cw&sa=X&oi=geocode_result&ct=image&resnum=1&
 ved=0CCoQ8gEwAA
CONTACT:5157109826
ORGANIZER;CN="Andrew Stephen Pratt":http://conectom.leimay.org/profile
 /AndrewStephenPratt
ATTACH;FMTTYPE="image/jpeg":http://storage.ning.com/topology/rest/1.0/
 file/get/111733597?profile=original
ATTENDEE;ROLE=REQ-PARTICIPANT;PARTSTAT=ACCEPTED;RSVP=TRUE;CN="Andrew S
 tephen Pratt":http://conectom.leimay.org/profile/AndrewStephenPratt
END:VEVENT
END:VCALENDAR
