BEGIN:VCALENDAR
PRODID:NingEventWidget-v1
VERSION:2.0
METHOD:PUBLISH
BEGIN:VTIMEZONE
TZID:America/Anguilla
X-LIC-LOCATION:America/Anguilla
BEGIN:STANDARD
TZOFFSETFROM:-0400
TZOFFSETTO:-0400
TZNAME:AST
DTSTART:19700101T000000
END:STANDARD
END:VTIMEZONE
BEGIN:VEVENT
UID:5831649:Event:45833
DTSTAMP:20260424T083622Z
SUMMARY:Congress of Curious People
DESCRIPTION:Congress of Curious Peoples April 25 - May 4, 2014 Coney I
 sland USA 2014 Theme: “Simulation”\n\nPrices Full Congressional Pa
 ss $100 (Includes reserved seating for all events) Weekday Lectures $
 7 each Weekday Performances $10 each Combination Lecture/Performance $
 15 each Weekend Symposium $25 ($15 per day)\n\nMonday, April 28 Lectu
 re/Performance, the Coney Island Museum 7:30pm ($7 or $15 for double 
 feature) Industrial Ladies - A lecture by Evan Michelson       
  Performance, Sideshows by the Seashore 9:00pm ($10 or $15 for doubl
 e feature) Desire and the Sea - A performance by Edgar Oliver     
         Tuesday, April 29 Lecture/Performance, the Coney Island
  Museum 7:30pm ($7 or $15 for double feature) Chicanery, Counting, an
 d Cee-lo: Memory in Service to Skulduggery - A lecture and performance
  by Acep Hale         Performance, Sideshows by the Seashore 9:
 00pm ($10 or $15 for double feature) A Thrilling Journey Into the Min
 d with Les the Mentalist\n\n\nClick here for the rest of the lineup!\n
 \nFor more information visit http://conectom.leimay.org/events/congres
 s-of-curious-people
DTSTART;TZID=America/Anguilla:20140428T110000
DTEND;TZID=America/Anguilla:20140504T170000
CATEGORIES:festival
LOCATION:Coney Island
WEBSITE:http://www.coneyisland.com/programs/congress-curious-peoples
URL:http://www.coneyisland.com/programs/congress-curious-peoples
CONTACT:
ORGANIZER:Coney Island Presents
ATTACH;FMTTYPE="image/jpeg":http://storage.ning.com/topology/rest/1.0/
 file/get/111738051?profile=original
ATTENDEE;ROLE=REQ-PARTICIPANT;PARTSTAT=ACCEPTED;RSVP=TRUE;CN="mike dot
 hal":http://conectom.leimay.org/profile/mikedothal
ATTENDEE;ROLE=REQ-PARTICIPANT;PARTSTAT=ACCEPTED;RSVP=TRUE;CN="Theresa 
 Magario tm":http://conectom.leimay.org/profile/TheresaMagario_tm
END:VEVENT
END:VCALENDAR
