BEGIN:VCALENDAR
PRODID:NingEventWidget-v1
VERSION:2.0
METHOD:PUBLISH
BEGIN:VTIMEZONE
TZID:America/Anguilla
X-LIC-LOCATION:America/Anguilla
BEGIN:STANDARD
TZOFFSETFROM:-0400
TZOFFSETTO:-0400
TZNAME:AST
DTSTART:19700101T000000
END:STANDARD
END:VTIMEZONE
BEGIN:VEVENT
UID:5831649:Event:38103
DTSTAMP:20260419T221037Z
SUMMARY:Composer/Choreographer Series // Erica Mott & Ryan Ingebritsen
DESCRIPTION:The Victory Project is an interactive duet installation be
 tween composer/electronic musician, Ryan Ingebritsen and performance/
 dance artist, Erica Mott. Victory Project presents a series of trans-
 disciplinary performances that incorporate interactive image, sound, 
 text, movement and sculptural objects to dismantle allegories that co
 nfuse and conflate patriotism and perversity. Beginning with the inqu
 iry into whether or not the concept of ‘victory’ is a gendered not
 ion, the performances examine the female body as tool, symbol, bounty
 , and weapon during and post conflict.\n\nStructurally the performanc
 e cultivates an interdependency between movement and sound, allowing 
 the body to become musical instrument both dictating musical composit
 ion and moving in ways to serve the sonic score. The touring version 
 of the Victory Project features choreography, object design and perfo
 rmance by Mott, sound composition and performance by Ingebritsen, inte
 ractive video design by John Boesche, light design by Todd Clark, and
  dramaturgy by Ginger Farley.\n\nFor more information visit http://con
 ectom.leimay.org/events/composer-choreographer-series-erica-mott-ryan-
 ingebritsen
DTSTART;TZID=America/Anguilla:20130322T200000
DTEND;TZID=America/Anguilla:20130322T220000
CATEGORIES:performance
LOCATION:Roulette
WEBSITE:http://roulette.org/getting-there/
URL:http://roulette.org/getting-there/
CONTACT:(917) 267-0363
ORGANIZER;CN="Cara Stewart":http://conectom.leimay.org/profile/CaraSte
 wart
ATTACH;FMTTYPE="image/jpeg":http://storage.ning.com/topology/rest/1.0/
 file/get/111736128?profile=original
ATTENDEE;ROLE=REQ-PARTICIPANT;PARTSTAT=ACCEPTED;RSVP=TRUE;CN="Cara Ste
 wart":http://conectom.leimay.org/profile/CaraStewart
END:VEVENT
END:VCALENDAR
