BEGIN:VCALENDAR
PRODID:NingEventWidget-v1
VERSION:2.0
METHOD:PUBLISH
BEGIN:VTIMEZONE
TZID:America/Anguilla
X-LIC-LOCATION:America/Anguilla
BEGIN:STANDARD
TZOFFSETFROM:-0400
TZOFFSETTO:-0400
TZNAME:AST
DTSTART:19700101T000000
END:STANDARD
END:VTIMEZONE
BEGIN:VEVENT
UID:5831649:Event:74898
DTSTAMP:20260419T111249Z
SUMMARY:Competition
DESCRIPTION:‘Competition’ presents 3 three-hour durational perform
 ance pieces that draw choreographic inspiration from a series of tradi
 tional physical competitions and warm-up routines that take place “b
 ackstage” within the world of professional dance. The competitions s
 et up systems for measuring physical thresholds and usually take the f
 orm of a game. The games are repetitive, abstract and strengthening, a
 nd follow strict, yet unstated, rules that get passed corporeally from
  one generation to the next. The competition outcomes establish, and c
 ontinuously reaffirm, a social hierarchy that extends beyond the game 
 and directly affects the power dynamic within a “performance.” The
  choreography will focus on the “preparation” poses and will incor
 porate the “throwing” of the press-release pamphlets and “scatte
 ring” of side-walk salt into the composition. Over the course of the
  performance the gallery floor will become increasingly covered by pap
 er/salt/sludge and force the choreography to adjust accordingly. When 
 the dancers are not participating in a competition in the main gallery
  space, they will be warming up in the the front gallery space and vis
 ible to those passing by.\n\nFor more information visit http://conecto
 m.leimay.org/events/competition
DTSTART;TZID=America/Anguilla:20170323T150000
DTEND;TZID=America/Anguilla:20170325T180000
CATEGORIES:dance, installation
LOCATION:Bortolami Gallery
WEBSITE:http://bortolamigallery.com/current-exhibitions/
URL:http://bortolamigallery.com/current-exhibitions/
CONTACT:
ORGANIZER:Madeline Hollander
ATTACH;FMTTYPE="image/jpeg":http://storage.ning.com/topology/rest/1.0/
 file/get/111741001?profile=original
ATTENDEE;ROLE=REQ-PARTICIPANT;PARTSTAT=ACCEPTED;RSVP=TRUE;CN="Jeremy P
 heiffer":http://conectom.leimay.org/profile/JeremyPheiffer
END:VEVENT
END:VCALENDAR
