BEGIN:VCALENDAR
PRODID:NingEventWidget-v1
VERSION:2.0
METHOD:PUBLISH
BEGIN:VTIMEZONE
TZID:America/Anguilla
X-LIC-LOCATION:America/Anguilla
BEGIN:STANDARD
TZOFFSETFROM:-0400
TZOFFSETTO:-0400
TZNAME:AST
DTSTART:19700101T000000
END:STANDARD
END:VTIMEZONE
BEGIN:VEVENT
UID:5831649:Event:40542
DTSTAMP:20260420T143454Z
SUMMARY:Climate Change // Language Action Poetry Facilitators - From A
 sia With Love
DESCRIPTION:Tonight we present artists from the other side of our glob
 e, with differing perspectives, but cohesive in their understanding. T
 hese artists are rarely seen in NYC and it is with great esteem that w
 e present their work.\nGim Gwang Cheol\nArai Shin-Ichi\nW Christiawan\
 nMimi Fadmi\nYuenjie Maru\nJill McDermid\nMiao Jiaxin\nHeeran Lee\n\nF
 or more information visit http://conectom.leimay.org/events/climate-ch
 ange-language-action-poetry-facilitators-from-asia-with
DTSTART;TZID=America/Anguilla:20130712T210000
DTEND;TZID=America/Anguilla:20130712T230000
CATEGORIES:"brooklyn international performance art festival", "perform
 ance art"
LOCATION:Grace Exhibition Space
WEBSITE:http://www.bipaf.net/bipaf/gimaraijuenjiewmimi
URL:http://www.bipaf.net/bipaf/gimaraijuenjiewmimi
CONTACT:
ORGANIZER:
ATTACH;FMTTYPE="image/jpeg":http://storage.ning.com/topology/rest/1.0/
 file/get/111737236?profile=original
ATTENDEE;ROLE=REQ-PARTICIPANT;PARTSTAT=ACCEPTED;RSVP=TRUE;CN="Raul Zbe
 ngheci":http://conectom.leimay.org/profile/RaulZbengheci
END:VEVENT
END:VCALENDAR
