BEGIN:VCALENDAR
PRODID:NingEventWidget-v1
VERSION:2.0
METHOD:PUBLISH
BEGIN:VTIMEZONE
TZID:America/Anguilla
X-LIC-LOCATION:America/Anguilla
BEGIN:STANDARD
TZOFFSETFROM:-0400
TZOFFSETTO:-0400
TZNAME:AST
DTSTART:19700101T000000
END:STANDARD
END:VTIMEZONE
BEGIN:VEVENT
UID:5831649:Event:27590
DTSTAMP:20260422T170448Z
SUMMARY:Cibelle // Clocktower Gallery
DESCRIPTION:The Clocktower Gallery & Radio and the artist Shoplifter w
 elcome the Brazilian born tropical-punk delight Cibelle for a performa
 nce in our upper gallery, where she will create a sound and performanc
 e piece inside Shoplifter's wild installation, Nervescape. Friday, Sep
 t. 28 at 6pm; no admittance after 7pm. Free and open to the public. Li
 imited seating. RSVP required to events@artonair.org.\nOther project r
 ooms and exhibits also on view include Shoplifter's Nervescape, Byron 
 Westbrook's Interval/Habitat, and Casperelectronics' DroneScape.\n\nFo
 r more information visit http://conectom.leimay.org/events/cibelle-clo
 cktower-gallery
DTSTART;TZID=America/Anguilla:20120928T190000
DTEND;TZID=America/Anguilla:20120928T210000
CATEGORIES:"performance//installation"
LOCATION:The Clocktower Gallery and Radio
WEBSITE:http://artonair.org/event/cibelle-performs
URL:http://artonair.org/event/cibelle-performs
CONTACT:
ORGANIZER:The Clocktower
ATTACH;FMTTYPE="image/jpeg":http://storage.ning.com/topology/rest/1.0/
 file/get/111734582?profile=original
ATTENDEE;ROLE=REQ-PARTICIPANT;PARTSTAT=ACCEPTED;RSVP=TRUE;CN="Raul Zbe
 ngheci":http://conectom.leimay.org/profile/RaulZbengheci
END:VEVENT
END:VCALENDAR
