BEGIN:VCALENDAR
PRODID:NingEventWidget-v1
VERSION:2.0
METHOD:PUBLISH
BEGIN:VTIMEZONE
TZID:America/Anguilla
X-LIC-LOCATION:America/Anguilla
BEGIN:STANDARD
TZOFFSETFROM:-0400
TZOFFSETTO:-0400
TZNAME:AST
DTSTART:19700101T000000
END:STANDARD
END:VTIMEZONE
BEGIN:VEVENT
UID:5831649:Event:34505
DTSTAMP:20260419T130646Z
SUMMARY:Christy Singleton // ALL THE JOY DESIRE AND RAGE
DESCRIPTION:Childhood, sex and death become collaged in images and vid
 eos compiled in Christy Singleton’s “All the Joy, Desire and Rage 
 II.” The project began as an installation in her apartment and merge
 d Singleton’s interests in electronic music with her video. Distille
 d instinct and emotion flow through Singleton’s collages and videos.
  In one sequence, the artist’s portraits at different ages are conge
 aled into one image. She creates a liquefied version of herself- time 
 dissolves certainty into an uncontrolled subconscious version of self.
  In another video sequence, Singleton examines desire through the ster
 ile lense of a plastic surgeon’s before and after images of headless
  breast enlargement patients. This performance was organized by Jon Ne
 wman. 9PM PETER LOBO: SELECTIONS FROM “FLOWING WATER” AND NEW SONG
 S Accomplished composer and musician Peter Lobo accompanies Singleton
 s music on guitar, with ambient chords woven into Singleton’s voca
 ls and electronic compositions. Lobo will also be playing some of his 
 songs from his recently released solo album, “Flowing Water,” and 
 new songs for a forthcoming album, after the video performance.\n\nFor
  more information visit http://conectom.leimay.org/events/christy-sing
 leton-all-the-joy-desire-and-rage
DTSTART;TZID=America/Anguilla:20130114T200000
DTEND;TZID=America/Anguilla:20130114T230000
CATEGORIES:"sound performance", "video performance", "music performanc
 e", "brooklyn fire proof"
LOCATION:Brooklyn Fireproof
WEBSITE:https://www.google.com/calendar/render?eid=OHY3YWV0bjI3c2VsY25
 sczFpY2IybTNnczAgYnJvb2tseW5maXJlcHJvb2YuY29tX2o3OW0wZjQxMGdzN2kyZXNod
 XFxYjg5OGRvQGc&ctz&pli=1&gsessionid=LiO2pD7H1HBnzEGTpNd8tg&sf=true&out
 put=xml
URL:https://www.google.com/calendar/render?eid=OHY3YWV0bjI3c2VsY25sczF
 pY2IybTNnczAgYnJvb2tseW5maXJlcHJvb2YuY29tX2o3OW0wZjQxMGdzN2kyZXNodXFxY
 jg5OGRvQGc&ctz&pli=1&gsessionid=LiO2pD7H1HBnzEGTpNd8tg&sf=true&output=
 xml
CONTACT:
ORGANIZER:
ATTACH;FMTTYPE="image/jpeg":http://storage.ning.com/topology/rest/1.0/
 file/get/111735759?profile=original
ATTENDEE;ROLE=REQ-PARTICIPANT;PARTSTAT=ACCEPTED;RSVP=TRUE;CN="Raul Zbe
 ngheci":http://conectom.leimay.org/profile/RaulZbengheci
END:VEVENT
END:VCALENDAR
