BEGIN:VCALENDAR
PRODID:NingEventWidget-v1
VERSION:2.0
METHOD:PUBLISH
BEGIN:VTIMEZONE
TZID:America/Anguilla
X-LIC-LOCATION:America/Anguilla
BEGIN:STANDARD
TZOFFSETFROM:-0400
TZOFFSETTO:-0400
TZNAME:AST
DTSTART:19700101T000000
END:STANDARD
END:VTIMEZONE
BEGIN:VEVENT
UID:5831649:Event:25339
DTSTAMP:20260419T190856Z
SUMMARY:CAVE Artist In Residence Performances
DESCRIPTION:\n\nMay 2nd and 3rd 8:00 pm Tickets: $15 / $12 (CAVE Nexus
  member discount)\nRachel Cohen / Racoco www.racoco.org  | http://v
 imeo.com/37083685\n I would\nReferencing tales of chivalry, eight perf
 ormers build, deconstruct, and reconstruct wooden objects and costumes
  around themselves in a physical manifestation of the emotional and ps
 ychological structures we build, tear down, and re-create around ourse
 lves. With an original score by Lynn Wright. Featuring a different cas
 t each night.\nRachel Cohen has performed in NYC since 1997, and creat
 ed Racoco in 2003. Rachel was Harvard University’s 2006 Clifton Visi
 ting Artist; in 2007 she was a resident at The Sanskriti Foundation in
  Delhi, India, and Santa Fe Arts Institute with clay artist Patty Rose
 nblatt. Rachel has also taught workshops and performed at Maryland Ins
 titute College of Art and the Boston Museum School. She is a 2012 Fiel
 d Dance Fund recipient. This is her second year as a CAVE resident.\nG
 et tickets!\n\nCoupon discount code: SoggyTicket3\n\nFor more informat
 ion visit http://conectom.leimay.org/events/cave-artist-in-residence-p
 erformances
DTSTART;TZID=America/Anguilla:20120502T200000
DTEND;TZID=America/Anguilla:20120503T200000
CATEGORIES:cave, residents, performance
LOCATION:CAVE
WEBSITE:http://www.cavearts.org/
URL:http://www.cavearts.org/
CONTACT:
ORGANIZER;CN=LEIMAY:http://conectom.leimay.org/profile/LEIMAY_CAVE
ATTACH;FMTTYPE="image/jpeg":http://storage.ning.com/topology/rest/1.0/
 file/get/111733962?profile=original
ATTENDEE;ROLE=REQ-PARTICIPANT;PARTSTAT=ACCEPTED;RSVP=TRUE;CN="mike dot
 hal":http://conectom.leimay.org/profile/mikedothal
ATTENDEE;ROLE=REQ-PARTICIPANT;PARTSTAT=ACCEPTED;RSVP=TRUE;CN="Theresa 
 Magario tm":http://conectom.leimay.org/profile/TheresaMagario_tm
ATTENDEE;ROLE=REQ-PARTICIPANT;PARTSTAT=ACCEPTED;RSVP=TRUE;CN=LEIMAY:ht
 tp://conectom.leimay.org/profile/LEIMAY_CAVE
END:VEVENT
END:VCALENDAR
