BEGIN:VCALENDAR
PRODID:NingEventWidget-v1
VERSION:2.0
METHOD:PUBLISH
BEGIN:VTIMEZONE
TZID:America/Anguilla
X-LIC-LOCATION:America/Anguilla
BEGIN:STANDARD
TZOFFSETFROM:-0400
TZOFFSETTO:-0400
TZNAME:AST
DTSTART:19700101T000000
END:STANDARD
END:VTIMEZONE
BEGIN:VEVENT
UID:5831649:Event:25183
DTSTAMP:20260419T205632Z
SUMMARY:CAVE Artist In Residence Performance
DESCRIPTION:\nMay 5th and 6th 8:00pm\nTickets: $15 / $12 (CAVE Nexus m
 ember discount)\nBen Spatz | Maximilian Balduzzi / Urban Research Thea
 terwww.urbanresearchtheater.com\n \nRite of the Butcher and Requiem
 - second movement\nRite of the Butcher, created and performed by Ben S
 patz, is a visceral fable about the power of fantasy, told by the Butc
 her—refugee, criminal, shaman—through poetry, martial dance, and f
 olk songs in an invented language. This full-length solo will be follo
 wed by Requiem- second movement a new work created and performed by Ma
 ximilian Balduzzi.\nBen Spatz is Artistic Director of Urban Research T
 heater. His work has been seen at Abrons Arts Center, Lincoln Center R
 ubenstein Atrium, The Living Theatre, Movement Research at Judson Chur
 ch, the United Solo Festival, and elsewhere. Ben lived in Poland from 
 2003-2005 as an ensemble performer with the Gardzienice Theatre Compan
 y and a Fulbright Fellow at the Grotowski Institute. He is a doctoral 
 candidate in theatre at the City University of New York, where he has 
 also taught introductory and advanced courses in acting and performanc
 e. Ben’s writing has been published in both academic and artistic jo
 urnals. He is a current Artist-in-Residence at Movement Research.\nMax
 imilian is an Italian director, performer, and teacher. From 2003-2008
 , he worked with director Anne Zenour and Teatro della Pioggia in Sien
 a, creating original works, leading workshops, and organizing a theate
 r festival. During that time he also spent six months in Bali, studyin
 g traditional dance and song. In 2008, Maximilian moved to New York Ci
 ty, where he has worked with Ben Spatz, Arturo Vidich, and James Scrug
 gs among others. His work has been seen at Abrons Arts Center, Lincoln
  Center Rubenstein Atrium, The Living Theatre, Movement Research at Ju
 dson Church, HERE Arts Center, Dixon Place, and elsewhere. He is a cur
 rent Artist-in-Residence at Movement Research.\n\nGet Tickets!\nCoupon
  discount code: SoggyTicket4\n\nFor more information visit http://cone
 ctom.leimay.org/events/cave-artist-in-residence-performance
DTSTART;TZID=America/Anguilla:20120505T200000
DTEND;TZID=America/Anguilla:20120506T200000
CATEGORIES:performance
LOCATION:CAVE
WEBSITE:http://www.cavearts.org
URL:http://www.cavearts.org
CONTACT:
ORGANIZER;CN=LEIMAY:http://conectom.leimay.org/profile/LEIMAY_CAVE
ATTACH;FMTTYPE="image/jpeg":http://storage.ning.com/topology/rest/1.0/
 file/get/111733952?profile=original
ATTENDEE;ROLE=REQ-PARTICIPANT;PARTSTAT=ACCEPTED;RSVP=TRUE;CN="Stephani
 e Lanckton":http://conectom.leimay.org/profile/StephanieLanckton
ATTENDEE;ROLE=REQ-PARTICIPANT;PARTSTAT=ACCEPTED;RSVP=TRUE;CN="Theresa 
 Magario tm":http://conectom.leimay.org/profile/TheresaMagario_tm
ATTENDEE;ROLE=REQ-PARTICIPANT;PARTSTAT=ACCEPTED;RSVP=TRUE;CN=LEIMAY:ht
 tp://conectom.leimay.org/profile/LEIMAY_CAVE
END:VEVENT
END:VCALENDAR
