BEGIN:VCALENDAR
PRODID:NingEventWidget-v1
VERSION:2.0
METHOD:PUBLISH
BEGIN:VTIMEZONE
TZID:America/Anguilla
X-LIC-LOCATION:America/Anguilla
BEGIN:STANDARD
TZOFFSETFROM:-0400
TZOFFSETTO:-0400
TZNAME:AST
DTSTART:19700101T000000
END:STANDARD
END:VTIMEZONE
BEGIN:VEVENT
UID:5831649:Event:28023
DTSTAMP:20260422T150524Z
SUMMARY:Catch 53
DESCRIPTION:$15\n\nCATCH is a multi-faceted, multi-disciplinary, rough
  and ready performance series-event that blows through Brooklyn every 
 couple of months. CATCH is curated by Jeff Larson, Andrew Dinwiddie an
 d Caleb Hammons.\nMike Daisey ! +\nJillian Peña !\nGeoff Sobelle !\nS
 am Stonefield !\nRebecca Warner !\nBen Williams !\n\n\nFor more inform
 ation visit http://conectom.leimay.org/events/catch-53
DTSTART;TZID=America/Anguilla:20120928T180000
DTEND;TZID=America/Anguilla:20120928T190000
CATEGORIES:variety
LOCATION:Invisible Dog Arts Center
WEBSITE:http://www.theinvisibledog.org/catch-53/
URL:http://www.theinvisibledog.org/catch-53/
CONTACT:
ORGANIZER:
ATTACH;FMTTYPE="image/jpeg":http://storage.ning.com/topology/rest/1.0/
 file/get/111734653?profile=original
ATTENDEE;ROLE=REQ-PARTICIPANT;PARTSTAT=ACCEPTED;RSVP=TRUE;CN="Raul Zbe
 ngheci":http://conectom.leimay.org/profile/RaulZbengheci
END:VEVENT
END:VCALENDAR
