BEGIN:VCALENDAR
PRODID:NingEventWidget-v1
VERSION:2.0
METHOD:PUBLISH
BEGIN:VTIMEZONE
TZID:America/Anguilla
X-LIC-LOCATION:America/Anguilla
BEGIN:STANDARD
TZOFFSETFROM:-0400
TZOFFSETTO:-0400
TZNAME:AST
DTSTART:19700101T000000
END:STANDARD
END:VTIMEZONE
BEGIN:VEVENT
UID:5831649:Event:24404
DTSTAMP:20260419T192405Z
SUMMARY:Cage TRANSMITTED
DESCRIPTION:Rachel Cohen performs during a broadcast of John Cage deli
 vering a lecture to students at Harpur College, Binghamton, NY on Janu
 ary 24, 1967. This event marks the first time the lecture has been hea
 rd since it was delivered exactly 45 years ago. A select group of chor
 eographers and dancers will perform in the space as Cage speaks and wi
 ll also include dancers of TAKE Dance, Lynn Parkerson Artistic Directo
 r of Brooklyn Ballet, Benn Rasmussen + Megan Madorin + Edward Rice of 
 Ardent August, and Morgan McEwen of Gleich Dances, among others.About 
 John Cage Transmitted: Celebrating the centennial of John Cage, Norte 
 Maar will collaborate with E.A.T. to present Cage Transmitted: 12 even
 ings of performance. The twelve evenings, occurring once each month sp
 an the calendar year of 2012, and will include music, poetry, theater,
  happenings, visual art, and dance. The evenings will be broadcast liv
 e from the front room of Norte Maar's apartment gallery onto the stree
 t and live streamed on the web (URL to be announced). Cage Transmitted
  music is co-curated by Eric Lamb.\n\nFor more information visit http:
 //conectom.leimay.org/events/cage-transmitted
DTSTART;TZID=America/Anguilla:20120124T190000
DTEND;TZID=America/Anguilla:20120124T210000
CATEGORIES:"performance/lecture"
LOCATION:NORTE MAAR FOR COLLABORATIVE PROJECTS IN THE ARTS 83 Wyckoff 
 Avenue, #1B, Brooklyn, NY 11237
WEBSITE:
URL:
CONTACT:
ORGANIZER;CN="Rachel Cohen":http://conectom.leimay.org/profile/RachelC
 ohen
ATTACH;FMTTYPE="image/jpeg":http://storage.ning.com/topology/rest/1.0/
 file/get/111733889?profile=original
ATTENDEE;ROLE=REQ-PARTICIPANT;PARTSTAT=ACCEPTED;RSVP=TRUE;CN="Rachel C
 ohen":http://conectom.leimay.org/profile/RachelCohen
END:VEVENT
END:VCALENDAR
