BEGIN:VCALENDAR
PRODID:NingEventWidget-v1
VERSION:2.0
METHOD:PUBLISH
BEGIN:VTIMEZONE
TZID:America/Anguilla
X-LIC-LOCATION:America/Anguilla
BEGIN:STANDARD
TZOFFSETFROM:-0400
TZOFFSETTO:-0400
TZNAME:AST
DTSTART:19700101T000000
END:STANDARD
END:VTIMEZONE
BEGIN:VEVENT
UID:5831649:Event:45333
DTSTAMP:20260419T131551Z
SUMMARY:BUILDING A PHYSICAL AND VOCAL SEQUENCE/WORKSHOP
DESCRIPTION:\n\nBUILDING A PHYSICAL AND VOCAL SEQUENCE  \n(from th
 e RESTLESS PRESENCE workshops series)  \n         4 MONDAYS
  from 10am to 1pm  \n                   Starting MARCH 31s
 t \n\n\n\n\n\n\n\n\n\n\n\n\nBUILDING A PHYSICAL AND VOCAL SEQUENCE i
 s a 4-class workshop focused on physical and vocal training for perfor
 mers. I will work with a small group of performers on a select number 
 of exercises/actions and helping each participant to build a physical 
 and vocal sequence. While paying attention to some basic principles (i
 mpulses, opposition, rhythm, balance), the goal is to enhance a certai
 n quality of presence and create a physical structure that can be used
  in your own theater/dance/performance or artistic practice. BUILDING 
 A PHYSICAL SEQUENCE is open to performers from all backgrounds and le
 vels of experience.  \n \nWhen: Monday 10am-1pm (March 31st, Apr
 il 7th/14th/21st) \nWhere: www.dancemanhattan.com (39 W 19th St)\n
 Cost: 150$ (120$ early registration before March 20th)\n \nFor regis
 tration please visit:\nhttp://www.massimilianobalduzzi.com/workshops\n
 \n\n\n\n\n\n\n\n\n\n\n\nFor more information visit http://conectom.lei
 may.org/events/building-a-physical-and-vocal-sequence-workshop
DTSTART;TZID=America/Anguilla:20140331T100000
DTEND;TZID=America/Anguilla:20140421T130000
CATEGORIES:classes
LOCATION:www.dancemanhattan.com
WEBSITE:http://www.massimilianobalduzzi.com
URL:http://www.massimilianobalduzzi.com
CONTACT:917-673-8690
ORGANIZER;CN="maximilian balduzzi":http://conectom.leimay.org/profile/
 maximilianbalduzzi
ATTACH;FMTTYPE="image/jpeg":http://storage.ning.com/topology/rest/1.0/
 file/get/111737896?profile=original
ATTENDEE;ROLE=REQ-PARTICIPANT;PARTSTAT=ACCEPTED;RSVP=TRUE;CN="mike dot
 hal":http://conectom.leimay.org/profile/mikedothal
ATTENDEE;ROLE=REQ-PARTICIPANT;PARTSTAT=ACCEPTED;RSVP=TRUE;CN="maximili
 an balduzzi":http://conectom.leimay.org/profile/maximilianbalduzzi
END:VEVENT
END:VCALENDAR
