BEGIN:VCALENDAR
PRODID:NingEventWidget-v1
VERSION:2.0
METHOD:PUBLISH
BEGIN:VTIMEZONE
TZID:America/Anguilla
X-LIC-LOCATION:America/Anguilla
BEGIN:STANDARD
TZOFFSETFROM:-0400
TZOFFSETTO:-0400
TZNAME:AST
DTSTART:19700101T000000
END:STANDARD
END:VTIMEZONE
BEGIN:VEVENT
UID:5831649:Event:79837
DTSTAMP:20260419T094546Z
SUMMARY:\"Brooklyn Photographs\" Exhibition
DESCRIPTION:Brooklyn Photographs brings together the work of 11 photo
 graphers who have turned their lens on the Brooklyn experience from t
 he late 1960s to the present. The exhibition illuminates the important
  role that photography has had in preserving aspects of Brooklyn’s n
 eighborhoods and traditions, and in documenting the extraordinary cult
 ural and social diversity that is a hallmark of the borough, as well a
 s its status as a site of continual change.\n\nPhoto: Sergio Purtell, 
 courtesy of the artist and Art 3 Gallery, Brooklyn\n\nFor more informa
 tion visit http://conectom.leimay.org/events/brooklyn-photographs-exhi
 bition
DTSTART;TZID=America/Anguilla:20170907T100000
DTEND;TZID=America/Anguilla:20171029T180000
CATEGORIES:art, exhibition
LOCATION:BRIC House
WEBSITE:https://www.bricartsmedia.org/art-exhibitions/brooklyn-photogr
 aphs
URL:https://www.bricartsmedia.org/art-exhibitions/brooklyn-photographs
CONTACT:7186835600
ORGANIZER;CN="Abigail Clark":http://conectom.leimay.org/profile/Abigai
 lClark
ATTACH;FMTTYPE="image/jpeg":http://storage.ning.com/topology/rest/1.0/
 file/get/111741595?profile=original
ATTENDEE;ROLE=REQ-PARTICIPANT;PARTSTAT=ACCEPTED;RSVP=TRUE;CN="Abigail 
 Clark":http://conectom.leimay.org/profile/AbigailClark
END:VEVENT
END:VCALENDAR
